BEGIN:VCALENDAR
VERSION:2.0
PRODID:-//wp-events-plugin.com//7.2.3.1//EN
TZID:Europe/Warsaw
X-WR-TIMEZONE:Europe/Warsaw
BEGIN:VEVENT
UID:39085@night4u.pl
DTSTART;TZID=Europe/Warsaw:20191220T230000
DTEND;TZID=Europe/Warsaw:20191221T060000
DTSTAMP:20191220T054014Z
URL:https://night4u.pl/wydarzenia/vive-la-yoruba/
SUMMARY:Vive La Yorüba
DESCRIPTION:20 grudnia Wasze serduszko zapuka w rytmie 4 na 4.\n\nZapraszam
 y na uroczy\, hałsowy wieczór - odwiedzi nas stołeczny duet Yorüba\, a
  wraz z nimi zagrają lokalsi:\n\nSteve Moob \nBlumental\nVitin\n\nWięcej
  o Yoruba:\n\nDJ’s/Producers\, settled in Warsaw\, Poland.\nThey are aim
 ing to share the music they create from all the experiences and influences
  they soak. Thru it\, Yorüba conceive their artistic environment and invi
 te You to discover it.\nYou know\, thats pretty all about stuff they do.\n
 \nhttps://soundcloud.com/yorubasound\n\n\n//\nP29 / ul. Piotrkowska 29\n(w
 ejście od ul. Więckowskiego)\n2.12.2019\nStart: 22.00\nTax:\n22.00-23.00
 : free\n23.00-...: 15 złociszy
ATTACH;FMTTYPE=image/jpeg:https://night4u.pl/wp-content/uploads/2019/12/11
 4357_image_78648184_457224388267708_3184924301040025600_o.jpg
CATEGORIES:łódzkie
LOCATION:P29\, Piotrkowska 29\, Łódź\, 90-410\, Poland
GEO:51.772549;19.455285
X-APPLE-STRUCTURED-LOCATION;VALUE=URI;X-ADDRESS=Piotrkowska 29\, Łódź\, 
 90-410\, Poland;X-APPLE-RADIUS=100;X-TITLE=P29:geo:51.772549,19.455285
END:VEVENT
BEGIN:VTIMEZONE
TZID:Europe/Warsaw
X-LIC-LOCATION:Europe/Warsaw
BEGIN:STANDARD
DTSTART:20191027T020000
TZOFFSETFROM:+0200
TZOFFSETTO:+0100
TZNAME:CET
END:STANDARD
END:VTIMEZONE
END:VCALENDAR