BEGIN:VCALENDAR
VERSION:2.0
PRODID:-//wp-events-plugin.com//7.2.3.1//EN
TZID:Europe/Warsaw
X-WR-TIMEZONE:Europe/Warsaw
BEGIN:VEVENT
UID:38375@night4u.pl
DTSTART;TZID=Europe/Warsaw:20200117T230000
DTEND;TZID=Europe/Warsaw:20200118T060000
DTSTAMP:20200331T192108Z
URL:https://night4u.pl/wydarzenia/vixa-attack-%e2%80%a2-gashmaker-we-wrocl
 awiu/
SUMMARY:Vixa Attack • Gashmaker we Wrocławiu!
DESCRIPTION:Po zdecydowanie zbyt długiej przerwie VIXA powraca do Wrocław
 ia! Tej nocy wystąpi dla was przewodniczący lotników w Polsce\, znany z
  występów w największych klubach\, tj. Omen\, Protector czy Corrado. M
 łody\, skromny\, choć jego setów słuchają w całym kraju - Gashmaker!
 \n\nNa scenie także:\n- DJCRASH\n- Kabuczi\n- D.D.S\n- Pele\n- Pundeck\n\
 nZaczynamy o 23:00\, ale polecamy także wcześniej Major SPZ we Wrocławi
 u! Koncert premierowy. \n\n++++++++++++++\n\n17.01.20 (piątek)\nD.K. Luks
 us\nWita Stwosza 16\, Wrocław\n\ntax. 15zł do północy/20zł po 0:00
ATTACH;FMTTYPE=image/jpeg:https://night4u.pl/wp-content/uploads/2020/01/10
 9734_image_81005192_466252374072427_8031170122863345664_n.jpg
CATEGORIES:dolnośląskie
LOCATION:D.K. Luksus\, Wita Stwosza 16\, Wroclaw\, 50-148\, Poland
GEO:51.10958;17.03678
X-APPLE-STRUCTURED-LOCATION;VALUE=URI;X-ADDRESS=Wita Stwosza 16\, Wroclaw\,
  50-148\, Poland;X-APPLE-RADIUS=100;X-TITLE=D.K. Luksus:geo:51.10958,17.03
 678
END:VEVENT
BEGIN:VTIMEZONE
TZID:Europe/Warsaw
X-LIC-LOCATION:Europe/Warsaw
BEGIN:STANDARD
DTSTART:20191027T020000
TZOFFSETFROM:+0200
TZOFFSETTO:+0100
TZNAME:CET
END:STANDARD
END:VTIMEZONE
END:VCALENDAR