BEGIN:VCALENDAR
VERSION:2.0
PRODID:-//wp-events-plugin.com//7.2.3.1//EN
TZID:Europe/Warsaw
X-WR-TIMEZONE:Europe/Warsaw
BEGIN:VEVENT
UID:45580@night4u.pl
DTSTART;TZID=Europe/Warsaw:20200131T213000
DTEND;TZID=Europe/Warsaw:20200201T040000
DTSTAMP:20200131T230406Z
URL:https://night4u.pl/wydarzenia/vixa-attack-discoplex-a4/
SUMMARY:Vixa Attack! Discoplex A4
DESCRIPTION:Vixa Attack! YOURANT - MATSON - LACROS\n\nGRAMY NA SALI KLUBOWE
 J i JAMAICA \nBilety: do 22:00 po 5 PLN po 22:00 15 PLN (+16 ) \nRezerwacj
 a loży: 601 941 854\nWWW.DISCOPLEXA4.PL
ATTACH;FMTTYPE=image/jpeg:https://night4u.pl/wp-content/uploads/2020/01/14
 7974_image_84286668_3339166426095393_4682143088607494144_o.jpg
CATEGORIES:opolskie
LOCATION:Discoplex A4\, Pietna\, Poland
GEO:50.451164;17.967762
X-APPLE-STRUCTURED-LOCATION;VALUE=URI;X-ADDRESS=Pietna\, Poland;X-APPLE-RAD
 IUS=100;X-TITLE=Discoplex A4:geo:50.451164,17.967762
END:VEVENT
BEGIN:VTIMEZONE
TZID:Europe/Warsaw
X-LIC-LOCATION:Europe/Warsaw
BEGIN:STANDARD
DTSTART:20191027T020000
TZOFFSETFROM:+0200
TZOFFSETTO:+0100
TZNAME:CET
END:STANDARD
END:VTIMEZONE
END:VCALENDAR