BEGIN:VCALENDAR
VERSION:2.0
PRODID:-//wp-events-plugin.com//7.2.3.1//EN
TZID:Europe/Warsaw
X-WR-TIMEZONE:Europe/Warsaw
BEGIN:VEVENT
UID:47574@night4u.pl
DTSTART;TZID=Europe/Warsaw:20200221T220000
DTEND;TZID=Europe/Warsaw:20200222T040000
DTSTAMP:20200221T190727Z
URL:https://night4u.pl/wydarzenia/vixa-attack-vol-2-gashmaker-nitro-club-n
 ysa/
SUMMARY:Vixa Attack vol. 2 // Gashmaker // Nitro Club Nysa
DESCRIPTION:Druga odsłona imprezy z cyklu VIXA ATTACK !\nTym razem gości
 ć będziemy jednego z najlepszych DJ w tym gatunku - Gashmaker !\n\nRezyd
 ent: Dj Diaz\nStart: 22:00\nRezerwacje: 510 919 157
ATTACH;FMTTYPE=image/jpeg:https://night4u.pl/wp-content/uploads/2020/02/15
 9820_image_86263536_2720442044677442_6156994300677718016_o.jpg
CATEGORIES:opolskie
LOCATION:Nitro Club Nysa\, Nysa\, Poland
GEO:50.480313;17.339196
X-APPLE-STRUCTURED-LOCATION;VALUE=URI;X-ADDRESS=Nysa\, Poland;X-APPLE-RADIU
 S=100;X-TITLE=Nitro Club Nysa:geo:50.480313,17.339196
END:VEVENT
BEGIN:VTIMEZONE
TZID:Europe/Warsaw
X-LIC-LOCATION:Europe/Warsaw
BEGIN:STANDARD
DTSTART:20191027T020000
TZOFFSETFROM:+0200
TZOFFSETTO:+0100
TZNAME:CET
END:STANDARD
END:VTIMEZONE
END:VCALENDAR