BEGIN:VCALENDAR
VERSION:2.0
PRODID:-//wp-events-plugin.com//7.2.3.1//EN
TZID:Europe/Warsaw
X-WR-TIMEZONE:Europe/Warsaw
BEGIN:VEVENT
UID:21033@night4u.pl
DTSTART;TZID=Europe/Warsaw:20190705T220000
DTEND;TZID=Europe/Warsaw:20190706T050000
DTSTAMP:20190704T024706Z
URL:https://night4u.pl/wydarzenia/vixa-night-by-dj-luk/
SUMMARY:Vixa Night By Dj Luk
DESCRIPTION:Najlepsza muzyka klubowa wyselekcjonowana dla wszystkich miło
 śników ostrej jazdy? Imprezę poprowadzi dla Was Dj Luk?
ATTACH;FMTTYPE=image/jpeg:https://night4u.pl/wp-content/uploads/2019/07/50
 246_image_65781334_2339969309429441_4800747858867257344_o.jpg
CATEGORIES:wielkopolskie
LOCATION:Base Club\, Mokra 1\, Poznan\, 61-766\, Poland
GEO:52.41009;16.93476
X-APPLE-STRUCTURED-LOCATION;VALUE=URI;X-ADDRESS=Mokra 1\, Poznan\, 61-766\,
  Poland;X-APPLE-RADIUS=100;X-TITLE=Base Club:geo:52.41009,16.93476
END:VEVENT
BEGIN:VTIMEZONE
TZID:Europe/Warsaw
X-LIC-LOCATION:Europe/Warsaw
BEGIN:DAYLIGHT
DTSTART:20190331T030000
TZOFFSETFROM:+0100
TZOFFSETTO:+0200
TZNAME:CEST
END:DAYLIGHT
END:VTIMEZONE
END:VCALENDAR