BEGIN:VCALENDAR
VERSION:2.0
PRODID:-//wp-events-plugin.com//7.2.3.1//EN
TZID:Europe/Warsaw
X-WR-TIMEZONE:Europe/Warsaw
BEGIN:VEVENT
UID:11265@night4u.pl
DTSTART;TZID=Europe/Warsaw:20190418T210000
DTEND;TZID=Europe/Warsaw:20190419T030000
DTSTAMP:20190329T223335Z
URL:https://night4u.pl/wydarzenia/vodka-za-4-x-studencki-czwartek-x-alan-w
 hite/
SUMMARY:Vodka za 4 x Studencki Czwartek x Alan White
DESCRIPTION:S T U D E N C K I      C Z W A R T E K !\n\nPrzed nami kolejna 
 czwartkowa studencka impreza! Po ostatnim czwartku uzupełniliśmy zapasy 
 owocowych alkoholi i ruszamy!\n\nCzwartek to taki mały piątek\, dlatego 
 specjalnie dla Was przez całą noc : \n* szot lubelskiej 4 PLN \n\nDO WYB
 ORU:\n-LUBELSKA CYTRYNÓWKA\n-LUBELSKA ŻURAWINOWA\n-LUBELSKA GRUSZKA\n-LU
 BELSKA POMARAŃCZA\n-LUBELSKA WIŚNIA\n\nO kolorowych kamikadze na metry j
 uż nawet nie wspominamy tyko mrozimy alkohol i czekamy !\n \nZACZYNAMY O 
 GODZINIE 21:00\, ALE PRZED IMPREZĄ ZAPRASZAMY NA PYSZNĄ PIZZĘ \;)\n\nWS
 TĘP WOLNY
ATTACH;FMTTYPE=image/jpeg:https://night4u.pl/wp-content/uploads/2019/03/29
 266_image_55798183_405781380217376_5264789920962052096_o.jpg
CATEGORIES:lubelskie
LOCATION:MĄKA\, LANGIEWICZA 10\, Lublin\, 20-035\, Poland
GEO:51.24641;22.53522
X-APPLE-STRUCTURED-LOCATION;VALUE=URI;X-ADDRESS=LANGIEWICZA 10\, Lublin\, 2
 0-035\, Poland;X-APPLE-RADIUS=100;X-TITLE=MĄKA:geo:51.24641,22.53522
END:VEVENT
BEGIN:VTIMEZONE
TZID:Europe/Warsaw
X-LIC-LOCATION:Europe/Warsaw
BEGIN:DAYLIGHT
DTSTART:20190331T030000
TZOFFSETFROM:+0100
TZOFFSETTO:+0200
TZNAME:CEST
END:DAYLIGHT
END:VTIMEZONE
END:VCALENDAR