BEGIN:VCALENDAR
VERSION:2.0
PRODID:-//wp-events-plugin.com//7.2.3.1//EN
TZID:Europe/Warsaw
X-WR-TIMEZONE:Europe/Warsaw
BEGIN:VEVENT
UID:2519@night4u.pl
DTSTART;TZID=Europe/Warsaw:20190118T193000
DTEND;TZID=Europe/Warsaw:20190118T223000
DTSTAMP:20190104T231558Z
URL:https://night4u.pl/wydarzenia/volosi-mdk-dragon-darmowe-wejsciowki/
SUMMARY:Vołosi - MDK Dragon - darmowe wejściówki
DESCRIPTION:Kolejny raz dzielimy się z Wami tym co nas zachwyca. Tym razem
  to magicznie-energetyczni Vołosi. Światowej sławy wirtuozi smyczka - p
 ięciu na raz! \nKoncert jest darmowy (100 wejściówek do odebrania w Klu
 bie Dragon) - oraz tradycyjnie charytatywny: jesteśmy Motylami i pomagamy
 : Motyle dla hospicjum (Hospicjum Palium).\nA dla koneserów i praktykują
 cych większa szczodrość mamy 25 miejsc siedzących przed sceną (chętn
 i proszenie o kontakt z Damian Rogala )\nZapraszamy! \nDorota i Damian Rog
 ala\n\no Vołosach:\n"VOŁOSI to jeden z najbardziej ekscytujących i dyna
 micznych zespołów na współczesnej scenie muzycznej”\nGerald Seligman
 \, former General Director of WOMEX\n "VOŁOSI to rewelacja - ich zniewala
 jąca energią gra przekracza muzyczne i geograficzne granice tworząc abs
 olutnie nieodpartą mieszankę. Spróbuj ich nie pokochać!\nMary Ann Kenn
 edy\, BBC\nVOŁOSI zadebiutowali w 2010 roku na Festiwalu Nowa Tradycja zd
 obywając wszystkie nagrody regulaminowe i pozaregulaminowe. W roku 2011 p
 otwierdzili swój sukces\, otrzymując Grand Prix Svetozar Stracina dla na
 jlepszego utworu world music w Europie na konkursie organizowanym przez Eu
 ropejską Unię Nadawców EBU. W roku 2012 pierwsza płyta zespołu znalaz
 ła się w specjalnej selekcji TOP20 World Charts Europe. Od tej pory VOŁ
 OSI są nieprzerwanie w trasie.\nKoncertując na całym świecie spotykaj
 ą się ze spontanicznymi reakcjami publiczności i niezwykle przychylnym 
 głosem recenzentów. Koncerty zespołu były transmitowane przez Program 
 II i Program III Polskiego Radia\, brytyjskie radio BBC oraz niemiecką st
 ację WDR3.\nVOŁOSI współpracowali m.in. z Mateuszem Pospieszalskim\, M
 arkiem Mosiem i Orkiestrą AUKSO\, Adamem Klockiem\, legendą gruzińskiej
  muzyki Niazem Diasamidze\, francuskim zespołem Lo'jo\, norweskim Sigrid 
 Moldestad Trio.\nW roku 2016 VOŁOSI zdobyli Grand Prix Czech Music Crossr
 oads podczas Festiwalu Colours of Ostrava.\nRecenzjenci zgodnie stwierdzaj
 ą\, że VOŁOSI wymykając się wszelkim klasyfikacjom stworzyli absolutn
 ie oryginalny styl muzyczny. Przekraczając granice instrumentów smyczkow
 ych tworzą muzykę na wskroś nowoczesną i atrakcyjną dla współczesne
 go odbiorcy - wyrastającą z karpackich korzeni\, ale noszącą w sobie z
 namiona jazzowej improwizacji\, naładowaną rockową energią\, pełną n
 iezwykle emocjonalnego przekazu.\nTen fenomen sprawia\, że VOŁOSI są uw
 ielbiani zarówno przez publiczność rockowych festiwali\, bywalców pres
 tiżowych sal koncertowych\, wielbicieli world music\, ale i koronowane g
 łowy.
ATTACH;FMTTYPE=image/jpeg:https://night4u.pl/wp-content/uploads/2019/01/91
 11_image_49425959_2181369718574919_3787822492605743104_o.jpg
CATEGORIES:wielkopolskie
LOCATION:Dragon Social Club\, ul.Zamkowa 3\, Poznan\, 61-768\, Poland
GEO:52.409327;16.932084
X-APPLE-STRUCTURED-LOCATION;VALUE=URI;X-ADDRESS=ul.Zamkowa 3\, Poznan\, 61-
 768\, Poland;X-APPLE-RADIUS=100;X-TITLE=Dragon Social Club:geo:52.409327,1
 6.932084
END:VEVENT
BEGIN:VTIMEZONE
TZID:Europe/Warsaw
X-LIC-LOCATION:Europe/Warsaw
BEGIN:STANDARD
DTSTART:20181028T020000
TZOFFSETFROM:+0200
TZOFFSETTO:+0100
TZNAME:CET
END:STANDARD
END:VTIMEZONE
END:VCALENDAR