BEGIN:VCALENDAR
VERSION:2.0
PRODID:-//wp-events-plugin.com//7.2.3.1//EN
TZID:Europe/Warsaw
X-WR-TIMEZONE:Europe/Warsaw
BEGIN:VEVENT
UID:7205@night4u.pl
DTSTART;TZID=Europe/Warsaw:20190828T210000
DTEND;TZID=Europe/Warsaw:20190829T050000
DTSTAMP:20190213T181005Z
URL:https://night4u.pl/wydarzenia/w-2019-znajde-meza-2/
SUMMARY:W 2019 znajdę męża
DESCRIPTION:Początek roku\, to idealny czas na takie postanowienia?!\n\n
 ⭐️ Zapraszamy wszystkich turystów\, mieszkańców Kaszub\, Trójmiast
 a i nie tylko na WESELE  w klubie Dyskoteka Wesele Łeba!\n\n⭐️ Państ
 wo młodzi już na samym wejściu przywitają gości poczęstunkiem w post
 aci wiejskiego stołu oraz pyszną wódeczką weselną i szampanem!\n\nATR
 AKCJE przygotowane dla Państwa w WESELU to m.in:\nFOTOBUDKA / DJ & WODZIR
 EJ / NAJLEPSZE ZABAWY WESELNE / ORKIESTRA i WIELE INYCH!\n\n⭐️ ⭐ Imp
 rezę poprowadzi DJ & WODZIREJ⭐️ ⭐\n\n❤️ Kultowe oczepiny o godz
 inie 2.00 ❤️\n♥♥♥♥♥♥♥♥♥♥♥♥♥♥♥♥♥♥
 ♥♥♥♥♥♥\nGRAMY od 21.00 do ostatniego gościa!\n▬▬▬▬▬
 ▬▬▬▬▬▬▬▬▬▬▬▬▬▬▬▬▬▬▬▬▬▬\n\nCENY
  BILETÓW:\n[18+] - za okazaniem dokumentu tożsamości\nBilety Już od 10
  zł\n\nRezerwacje miejsc i biletów www.dyskotekiweselne.pl\nTylko u nas 
 Wesela bez koperty i krawatów!\n\nREZERWACJE BILETÓW & STOLIKÓW: +48 66
 4 462 129\n\nNa imprezie obowiązuje wygodny nieformalny strój taki jak d
 la Ciebie jest wygodny - jednak bez elementów sportowych m.in dresów\, c
 zapek itp. Prosimy zostaw\, to w domu lub zabierz na działkę ✌️\n\nA
 DRES: WOJSKA POLSKIEGO\, ŁEB!
ATTACH;FMTTYPE=image/jpeg:https://night4u.pl/wp-content/uploads/2019/02/20
 729_image_49947709_2026591864306868_4237994941365616640_o.jpg
CATEGORIES:pomorskie
LOCATION:Dyskoteka Wesele Łeba\, Wojska Polskiego\, Łeba\, 84-360\, Polan
 d
GEO:54.762309;17.55529
X-APPLE-STRUCTURED-LOCATION;VALUE=URI;X-ADDRESS=Wojska Polskiego\, Łeba\, 
 84-360\, Poland;X-APPLE-RADIUS=100;X-TITLE=Dyskoteka Wesele Łeba:geo:54.7
 62309,17.55529
END:VEVENT
BEGIN:VTIMEZONE
TZID:Europe/Warsaw
X-LIC-LOCATION:Europe/Warsaw
BEGIN:DAYLIGHT
DTSTART:20190331T030000
TZOFFSETFROM:+0100
TZOFFSETTO:+0200
TZNAME:CEST
END:DAYLIGHT
END:VTIMEZONE
END:VCALENDAR