BEGIN:VCALENDAR
VERSION:2.0
PRODID:-//wp-events-plugin.com//7.2.3.1//EN
TZID:Europe/Warsaw
X-WR-TIMEZONE:Europe/Warsaw
BEGIN:VEVENT
UID:6376@night4u.pl
DTSTART;TZID=Europe/Warsaw:20190308T180000
DTEND;TZID=Europe/Warsaw:20190309T040000
DTSTAMP:20190204T004145Z
URL:https://night4u.pl/wydarzenia/w-2019-znajde-swinke-na-wakacjach-3/
SUMMARY:W 2019 znajdę świnkę na wakacjach 
DESCRIPTION:Były postanowienia noworoczne\,\nByły obietnice o redukcji\nB
 yły powroty do biegania..\n\nUdało się lub nie\, w wakacje trzeba znale
 źć swojego świniaczka!\nA jeżeli nie chcesz czekać do wakacji zacznij
  już od piątku w Ciepło Zimno! 
ATTACH;FMTTYPE=image/jpeg:https://night4u.pl/wp-content/uploads/2019/02/18
 859_image_50894842_1333607153443829_1849356309988638720_o.jpg
CATEGORIES:lubelskie
LOCATION:Ciepło Zimno\, Krakowskie Przedmieście 26\, Lublin\, 20-002\, Po
 land
GEO:51.2476;22.56312
X-APPLE-STRUCTURED-LOCATION;VALUE=URI;X-ADDRESS=Krakowskie Przedmieście 26
 \, Lublin\, 20-002\, Poland;X-APPLE-RADIUS=100;X-TITLE=Ciepło Zimno:geo:5
 1.2476,22.56312
END:VEVENT
BEGIN:VTIMEZONE
TZID:Europe/Warsaw
X-LIC-LOCATION:Europe/Warsaw
BEGIN:STANDARD
DTSTART:20181028T020000
TZOFFSETFROM:+0200
TZOFFSETTO:+0100
TZNAME:CET
END:STANDARD
END:VTIMEZONE
END:VCALENDAR