BEGIN:VCALENDAR
VERSION:2.0
PRODID:-//wp-events-plugin.com//7.2.3.1//EN
TZID:Europe/Warsaw
X-WR-TIMEZONE:Europe/Warsaw
BEGIN:VEVENT
UID:35981@night4u.pl
DTSTART;TZID=Europe/Warsaw:20191115T220000
DTEND;TZID=Europe/Warsaw:20191116T040000
DTSTAMP:20191115T214452Z
URL:https://night4u.pl/wydarzenia/w-ten-weekend-idz-na-calosc/
SUMMARY:W ten weekend "idź na całość"!
DESCRIPTION:Idź na całość! Daj czadu na parkiecie przy najlepszych hita
 ch serwowanych przez DJa Seliego! Nie bierz kota w worku\, klub Abracadabr
 a to gwarancja\, że trafisz do odpowiedniej bramki\, kiedy innych czeka Z
 ONK...
ATTACH;FMTTYPE=image/jpeg:https://night4u.pl/wp-content/uploads/2019/11/96
 805_image_70990204_2531057666941443_4031689326923350016_o.jpg
CATEGORIES:łódzkie
LOCATION:Abracadabra Club\, PLAC KOMUNY PARYSKIEJ 6\, Łódź\, 90-007\, Po
 land
GEO:51.76518;19.45941
X-APPLE-STRUCTURED-LOCATION;VALUE=URI;X-ADDRESS=PLAC KOMUNY PARYSKIEJ 6\, 
 Łódź\, 90-007\, Poland;X-APPLE-RADIUS=100;X-TITLE=Abracadabra Club:geo:
 51.76518,19.45941
END:VEVENT
BEGIN:VTIMEZONE
TZID:Europe/Warsaw
X-LIC-LOCATION:Europe/Warsaw
BEGIN:STANDARD
DTSTART:20191027T020000
TZOFFSETFROM:+0200
TZOFFSETTO:+0100
TZNAME:CET
END:STANDARD
END:VTIMEZONE
END:VCALENDAR