BEGIN:VCALENDAR
VERSION:2.0
PRODID:-//wp-events-plugin.com//7.2.3.1//EN
TZID:Europe/Warsaw
X-WR-TIMEZONE:Europe/Warsaw
BEGIN:VEVENT
UID:6043@night4u.pl
DTSTART;TZID=Europe/Warsaw:20190214T160000
DTEND;TZID=Europe/Warsaw:20190214T234500
DTSTAMP:20190201T053228Z
URL:https://night4u.pl/wydarzenia/w-walentynki-zostane-piwnym-singlem/
SUMMARY:W Walentynki zostanę piwnym singlem!
DESCRIPTION:Nie możesz znaleźć stolika na 14 lutego? Nie lubisz serdusze
 k\, romantycznych piosenek i kolacji przy świecach! Mamy coś dla Ciebie 
 :D Jak co roku w Carpe Kraft - Ani śladu Walentynek! :) Zamawiając pierw
 sze piwo na hasło JESTEM SINGLEM - otrzymujesz zniżkę  50%! :)  Tylko p
 amiętajcie - piwo samo w sobie singlem nie jest i lubi towarzystwo kolejn
 ych\, więc nię bądźcie egoistami! \;) Zapraszamy ... będzie muzyka na
  żywo - zupełnie nieromantyczna...\, a jedyną bajką o romantyzmie będ
 zie...\nROMAN TYŹ MIE PIWO WEŹ JESZCZE JEDNO \;)
ATTACH;FMTTYPE=image/jpeg:https://night4u.pl/wp-content/uploads/2019/01/18
 112_image_51068971_2325026467787159_539567172209344512_o.jpg
CATEGORIES:kujawsko-pomorskie
LOCATION:Carpe Kraft\, Plac Teatralny 7\, Torun\, 87-100\, Poland
GEO:53.012092;18.603458
X-APPLE-STRUCTURED-LOCATION;VALUE=URI;X-ADDRESS=Plac Teatralny 7\, Torun\, 
 87-100\, Poland;X-APPLE-RADIUS=100;X-TITLE=Carpe Kraft:geo:53.012092,18.60
 3458
END:VEVENT
BEGIN:VTIMEZONE
TZID:Europe/Warsaw
X-LIC-LOCATION:Europe/Warsaw
BEGIN:STANDARD
DTSTART:20181028T020000
TZOFFSETFROM:+0200
TZOFFSETTO:+0100
TZNAME:CET
END:STANDARD
END:VTIMEZONE
END:VCALENDAR