BEGIN:VCALENDAR
VERSION:2.0
PRODID:-//wp-events-plugin.com//7.2.3.1//EN
TZID:Europe/Warsaw
X-WR-TIMEZONE:Europe/Warsaw
BEGIN:VEVENT
UID:19399@night4u.pl
DTSTART;TZID=Europe/Warsaw:20190619T210000
DTEND;TZID=Europe/Warsaw:20190620T060000
DTSTAMP:20190614T195412Z
URL:https://night4u.pl/wydarzenia/wakacyjna-playlista-19-06-do-2300-lista-
 fb-free/
SUMMARY:Wakacyjna Playlista // 19.06 // Do 23:00 lista FB free
DESCRIPTION:Środa jest dniem na który wielu z Was czekało cały rok! POC
 ZĄTEK WAKACJI! Czwartek jest dniem luźniejszym wiec rozkręcamy melanż 
 do samego rana! \nWakacyjna playlista\, czyli gorące letnie kawałki i na
 jnowsze hity\, które umilą Wam każdą imprezę! ☀️? Bez nich nie wy
 obrażamy sobie wakacji! 
ATTACH;FMTTYPE=image/jpeg:https://night4u.pl/wp-content/uploads/2019/06/46
 762_image_64534883_2348216072120228_4910949066050895872_o.jpg
CATEGORIES:lubelskie
LOCATION:Helium Club\, Hempla 5\, Lublin\, 20-008\, Poland
GEO:51.24548;22.55754
X-APPLE-STRUCTURED-LOCATION;VALUE=URI;X-ADDRESS=Hempla 5\, Lublin\, 20-008\
 , Poland;X-APPLE-RADIUS=100;X-TITLE=Helium Club:geo:51.24548,22.55754
END:VEVENT
BEGIN:VTIMEZONE
TZID:Europe/Warsaw
X-LIC-LOCATION:Europe/Warsaw
BEGIN:DAYLIGHT
DTSTART:20190331T030000
TZOFFSETFROM:+0100
TZOFFSETTO:+0200
TZNAME:CEST
END:DAYLIGHT
END:VTIMEZONE
END:VCALENDAR