BEGIN:VCALENDAR
VERSION:2.0
PRODID:-//wp-events-plugin.com//7.2.3.1//EN
TZID:Europe/Warsaw
X-WR-TIMEZONE:Europe/Warsaw
BEGIN:VEVENT
UID:19720@night4u.pl
DTSTART;TZID=Europe/Warsaw:20190621T210000
DTEND;TZID=Europe/Warsaw:20190622T030000
DTSTAMP:20190619T115253Z
URL:https://night4u.pl/wydarzenia/wakacyjny-piatek-razem-z-wami-21-06/
SUMMARY:Wakacyjny piątek razem z wami | 21.06
DESCRIPTION:Cześć wakacje ??\n\nZapraszamy wszystkich na muzycznie klimat
 yczny letni piąteczek do Siódmego Nieba. Zabierajcie znajomych i wpadaci
 e do nas! ??\n\nDo 22:30 wszystkie Panie wchodzą za FREE✅
ATTACH;FMTTYPE=image/jpeg:https://night4u.pl/wp-content/uploads/2019/06/47
 503_image_64881551_2409971962567952_7297606609402855424_o.jpg
CATEGORIES:dolnośląskie
LOCATION:Seven Heaven Legnica\, kard. Bolesława Kominka 1\, Legnica\, 59-2
 20\, Poland
GEO:51.210306;16.152576
X-APPLE-STRUCTURED-LOCATION;VALUE=URI;X-ADDRESS=kard. Bolesława Kominka 1\
 , Legnica\, 59-220\, Poland;X-APPLE-RADIUS=100;X-TITLE=Seven Heaven Legnic
 a:geo:51.210306,16.152576
END:VEVENT
BEGIN:VTIMEZONE
TZID:Europe/Warsaw
X-LIC-LOCATION:Europe/Warsaw
BEGIN:DAYLIGHT
DTSTART:20190331T030000
TZOFFSETFROM:+0100
TZOFFSETTO:+0200
TZNAME:CEST
END:DAYLIGHT
END:VTIMEZONE
END:VCALENDAR