BEGIN:VCALENDAR
VERSION:2.0
PRODID:-//wp-events-plugin.com//7.2.3.1//EN
TZID:Europe/Warsaw
X-WR-TIMEZONE:Europe/Warsaw
BEGIN:VEVENT
UID:7172@night4u.pl
DTSTART;TZID=Europe/Warsaw:20190214T220000
DTEND;TZID=Europe/Warsaw:20190215T060900
DTSTAMP:20190213T180813Z
URL:https://night4u.pl/wydarzenia/wale-drinki-14-02-cooltura-chmielna-101/
SUMMARY:Wale drinki! / 14.02 / Cooltura Chmielna 101
DESCRIPTION:❤️??????\n\nKino? Kolacja? Spacer? Płatki róż rozsypane 
 w sypialni?\n\n? My walimy drinki w COOL.\n\n? Dla zakochanych przewidzian
 e promo!\n\n? Za muzykę odpowiedzialny Amor Ci$nień.\n\n\n・Start 22:00
 .\n・Wstęp tylko dla osób pełnoletnich.\n・Selekcja na wejściu - org
 anizator może odmówić wejścia do klubu.
ATTACH;FMTTYPE=image/jpeg:https://night4u.pl/wp-content/uploads/2019/02/20
 661_image_51339480_1202409046604076_4945316479525453824_o.jpg
CATEGORIES:pomorskie
LOCATION:Cooltura Chmielna 101\, Chmielna 101\, Gdansk\, 80-748\, Poland
GEO:54.34722;18.65729
X-APPLE-STRUCTURED-LOCATION;VALUE=URI;X-ADDRESS=Chmielna 101\, Gdansk\, 80-
 748\, Poland;X-APPLE-RADIUS=100;X-TITLE=Cooltura Chmielna 101:geo:54.34722
 ,18.65729
END:VEVENT
BEGIN:VTIMEZONE
TZID:Europe/Warsaw
X-LIC-LOCATION:Europe/Warsaw
BEGIN:STANDARD
DTSTART:20181028T020000
TZOFFSETFROM:+0200
TZOFFSETTO:+0100
TZNAME:CET
END:STANDARD
END:VTIMEZONE
END:VCALENDAR