BEGIN:VCALENDAR
VERSION:2.0
PRODID:-//wp-events-plugin.com//7.2.3.1//EN
TZID:Europe/Warsaw
X-WR-TIMEZONE:Europe/Warsaw
BEGIN:VEVENT
UID:5730@night4u.pl
DTSTART;TZID=Europe/Warsaw:20190216T220000
DTEND;TZID=Europe/Warsaw:20190217T060000
DTSTAMP:20190131T143307Z
URL:https://night4u.pl/wydarzenia/walentynki-mad-fiddle-violin-live-16-02/
SUMMARY:Walentynki | Mad Fiddle - violin live 16.02
DESCRIPTION:❤️❤️❤️ WALENTYNKI ❤️❤️❤️\n_____________
 _________________________\n\nguest:\nMad Fiddle Violin / violin live/ SALA
  COCON \n\ndj's:\nSERGE GAINSBEATS / sala cocon\nDJ FONIC / sala coco\n\n_
 _____________________________________\n\nWstęp: 10 zł | START 22:00  | +
 18\nKarty COCON FREE | Karty KLUBOWE FREE\nDo godz. 24:00 za okazaniem leg
 itymacji uczniowskiej\, studenckiej WSTĘP FREE\n\nW celu bezpieczeństwa 
 i komfortu zabawy klub zastrzega sobie prawo do selekcji gości.
ATTACH;FMTTYPE=image/jpeg:https://night4u.pl/wp-content/uploads/2019/01/17
 417_image_51351701_10156360000079585_6484025578885218304_o.jpg
CATEGORIES:małopolskie
LOCATION:Cocon Music Club\, ul. Gazowa 21\, Kraków\, 31-060\, Poland
GEO:50.04764;19.947289
X-APPLE-STRUCTURED-LOCATION;VALUE=URI;X-ADDRESS=ul. Gazowa 21\, Kraków\, 3
 1-060\, Poland;X-APPLE-RADIUS=100;X-TITLE=Cocon Music Club:geo:50.04764,19
 .947289
END:VEVENT
BEGIN:VTIMEZONE
TZID:Europe/Warsaw
X-LIC-LOCATION:Europe/Warsaw
BEGIN:STANDARD
DTSTART:20181028T020000
TZOFFSETFROM:+0200
TZOFFSETTO:+0100
TZNAME:CET
END:STANDARD
END:VTIMEZONE
END:VCALENDAR