BEGIN:VCALENDAR
VERSION:2.0
PRODID:-//wp-events-plugin.com//7.2.3.1//EN
TZID:Europe/Warsaw
X-WR-TIMEZONE:Europe/Warsaw
BEGIN:VEVENT
UID:5959@night4u.pl
DTSTART;TZID=Europe/Warsaw:20190214T220000
DTEND;TZID=Europe/Warsaw:20190215T010000
DTSTAMP:20190131T221033Z
URL:https://night4u.pl/wydarzenia/walentynki-spedze-z-rozowym-winem/
SUMMARY:Walentynki spędzę z Różowym Winem
DESCRIPTION:Romantyczna kolacja przy świecach może wydawać się zbyt typ
 owym pomysłem na Walentynki. Wykorzystaj tą okazję i odetnij się od ś
 wiata z różowym winem\, aby spędzić całe święto zakochanych tylko w
 e dwoje!
ATTACH;FMTTYPE=image/jpeg:https://night4u.pl/wp-content/uploads/2019/01/17
 926_image_50480728_2100907546635584_5375265808484139008_o.jpg
CATEGORIES:podlaskie
LOCATION:Rokoko 2.0 Białystok\, Legionowa 14/16\, Białystok\, 15-099\, Po
 land
GEO:53.130699;23.159157
X-APPLE-STRUCTURED-LOCATION;VALUE=URI;X-ADDRESS=Legionowa 14/16\, Białysto
 k\, 15-099\, Poland;X-APPLE-RADIUS=100;X-TITLE=Rokoko 2.0 Białystok:geo:5
 3.130699,23.159157
END:VEVENT
BEGIN:VTIMEZONE
TZID:Europe/Warsaw
X-LIC-LOCATION:Europe/Warsaw
BEGIN:STANDARD
DTSTART:20181028T020000
TZOFFSETFROM:+0200
TZOFFSETTO:+0100
TZNAME:CET
END:STANDARD
END:VTIMEZONE
END:VCALENDAR