BEGIN:VCALENDAR
VERSION:2.0
PRODID:-//wp-events-plugin.com//7.2.3.1//EN
TZID:Europe/Warsaw
X-WR-TIMEZONE:Europe/Warsaw
BEGIN:VEVENT
UID:44012@night4u.pl
DTSTART;TZID=Europe/Warsaw:20200215T210000
DTEND;TZID=Europe/Warsaw:20200216T060000
DTSTAMP:20200331T150015Z
URL:https://night4u.pl/wydarzenia/walentynki-z-eska-tv-ola-ciupa/
SUMMARY:Walentynki z ESKA TV // Ola Ciupa
DESCRIPTION:Walentynki z ESKA TV❤️\nImprezę nakręca Ola Ciupa aka DJ 
 SLAVIC\nRezerwacja lóż www.wroclaw.xdemon.pl\nSelekcja +21
ATTACH;FMTTYPE=image/jpeg:https://night4u.pl/wp-content/uploads/2020/01/14
 1591_image_83277070_1246329682218375_1425483788523143168_o.jpg
CATEGORIES:dolnośląskie
LOCATION:X-Demon - Wrocław\, \, 
X-APPLE-STRUCTURED-LOCATION;VALUE=URI;X-ADDRESS=\, ;X-APPLE-RADIUS=100;X-TI
 TLE=X-Demon - Wrocław:geo:0,0
END:VEVENT
BEGIN:VTIMEZONE
TZID:Europe/Warsaw
X-LIC-LOCATION:Europe/Warsaw
BEGIN:STANDARD
DTSTART:20191027T020000
TZOFFSETFROM:+0200
TZOFFSETTO:+0100
TZNAME:CET
END:STANDARD
END:VTIMEZONE
END:VCALENDAR