BEGIN:VCALENDAR
VERSION:2.0
PRODID:-//wp-events-plugin.com//7.2.3.1//EN
TZID:Europe/Warsaw
X-WR-TIMEZONE:Europe/Warsaw
BEGIN:VEVENT
UID:7158@night4u.pl
DTSTART;TZID=Europe/Warsaw:20190214T210000
DTEND;TZID=Europe/Warsaw:20190215T010000
DTSTAMP:20190213T180709Z
URL:https://night4u.pl/wydarzenia/walentynkowe-karaoke/
SUMMARY:Walentynkowe Karaoke
DESCRIPTION:W najbliższy czwartek Walentynkowe Karaoke.\nZapraszamy wszyst
 kich zakochanych i nie tylko. Będziecie mogli pośpiewać\, potańczyć i
  wypić pyszne drinki\, które barmani przygotują specjalnie na tę okazj
 ę.\nDla śpiewających niespodzianki.\nZapraszamy serdecznie wraz z Dj Al
 ia\n\nWstęp: free\nStartujemy o godzinie 21:00\n19+\n\nMechaniczna Pomara
 ńcza\nUl. Do Studzienki 61\nhttps://facebook.com/klubmechaniczna/
ATTACH;FMTTYPE=image/jpeg:https://night4u.pl/wp-content/uploads/2019/02/20
 632_image_51683569_2638895126137028_2001172649304129536_o.jpg
CATEGORIES:pomorskie
LOCATION:Mechaniczna Pomarańcza\, Do Studzienki 61\, Gdansk\, 80-227\, Pol
 and
GEO:54.369531;18.61039
X-APPLE-STRUCTURED-LOCATION;VALUE=URI;X-ADDRESS=Do Studzienki 61\, Gdansk\,
  80-227\, Poland;X-APPLE-RADIUS=100;X-TITLE=Mechaniczna Pomarańcza:geo:54
 .369531,18.61039
END:VEVENT
BEGIN:VTIMEZONE
TZID:Europe/Warsaw
X-LIC-LOCATION:Europe/Warsaw
BEGIN:STANDARD
DTSTART:20181028T020000
TZOFFSETFROM:+0200
TZOFFSETTO:+0100
TZNAME:CET
END:STANDARD
END:VTIMEZONE
END:VCALENDAR