BEGIN:VCALENDAR
VERSION:2.0
PRODID:-//wp-events-plugin.com//7.2.3.1//EN
TZID:Europe/Warsaw
X-WR-TIMEZONE:Europe/Warsaw
BEGIN:VEVENT
UID:44611@night4u.pl
DTSTART;TZID=Europe/Warsaw:20200215T210000
DTEND;TZID=Europe/Warsaw:20200216T050000
DTSTAMP:20200331T150121Z
URL:https://night4u.pl/wydarzenia/walentynkowe-single-party-%e2%98%85-spec
 jalne-atrakcje/
SUMMARY:WALENTYNKOWE SINGLE PARTY ★ Specjalne atrakcje!
DESCRIPTION:WALENTYNKI ★ SINGLE PARTY\nSOB 15.02.20 ★ ENERGY 2000 KATOW
 ICE \nKochani w sobotę\, 15 lutego\, zapraszamy wszystkich zakochanych i 
 tych którzy dopiero szukają miłości\, na wyjątkową imprezę z okazji
  Walentynek 2020. Szukasz swojej prawdziwej miłości? W czasie naszej imp
 rezy wszystkie Singielki i Single będą mogli założyć specjalne opaski
  koloru zielonego\, a Ci zajęci i zajęte lub "niechętne" otrzymają opa
 ski czerwone. Teraz znalezienie twojej połówki będzie na prawdę proste
 ! Spodziewajcie się niesamowitych efektów specjalnych\, masy nagród\, a
 trakcji i energicznej muzy!\nSPECJALNA WALENTYNKOWA EDYCJA SINGLE PARTY!\n
 Podczas imprezy specjalne foto-sesje dla zakochanych i walentynkowe upomin
 ki!\n\nUWAGA! Dla najszybszych na wejściu firmowa silikonowa opaska!\n\nB
 ilet: do 22.00 Panie 15 zł\, Panowie 20 zł\npo 22.00 Panie 20 zł\, Pano
 wie 25 zł\nWstęp: +18 lat | Start: 21:00\n\nZagrają dla Was nasi rezyde
 nci:\nMain Stage: Aras\, DeePush\, D-Wave\nDance Stage: Kubeck\, Alex S\nV
 IP Stage: Triks\n\nPROMOCJA / URODZINY/KAWALERSKIE/PANIEŃSKIE - AKTYWNE.\
 nZasady promocji znajdziesz w naszym FAQ.\n\nRezerwacja loży ON-LINE na n
 aszej stronie w zakładce LOŻE/REZERWACJE:\nhttp://rezerwacje.energy2000.
 pl/\n \nAktywacja pakietów promocyjnych TELEFONICZNIE:\n+48 609 539 619 o
 d pon. do śr. w godz. 8-16.\n\nKUP BILET FASTPASS (wejście bez kolejki)*
 !\nPrzeskocz kolejkę i bądź szybciej w klubie!\nBilety w standardowej c
 enie w dniu imprezy w kasie klubu od 21.00!\nBILETY FASTPASS dostępne na 
 stronie:\nhttp://rezerwacje.energy2000.pl\n\nLokal w pełni klimatyzowany!
 \nW całym klubie dostępne darmowe WI-FI.\nSerdecznie zapraszamy!
ATTACH;FMTTYPE=image/jpeg:https://night4u.pl/wp-content/uploads/2020/01/14
 4105_image_83428108_3694340447250213_2725413850349305856_o.jpg
CATEGORIES:śląskie
LOCATION:Energy 2000 Katowice\, Katowice\, Poland
GEO:50.255951;19.02099
X-APPLE-STRUCTURED-LOCATION;VALUE=URI;X-ADDRESS=Katowice\, Poland;X-APPLE-R
 ADIUS=100;X-TITLE=Energy 2000 Katowice:geo:50.255951,19.02099
END:VEVENT
BEGIN:VTIMEZONE
TZID:Europe/Warsaw
X-LIC-LOCATION:Europe/Warsaw
BEGIN:STANDARD
DTSTART:20191027T020000
TZOFFSETFROM:+0200
TZOFFSETTO:+0100
TZNAME:CET
END:STANDARD
END:VTIMEZONE
END:VCALENDAR