BEGIN:VCALENDAR
VERSION:2.0
PRODID:-//wp-events-plugin.com//7.2.3.1//EN
TZID:Europe/Warsaw
X-WR-TIMEZONE:Europe/Warsaw
BEGIN:VEVENT
UID:32579@night4u.pl
DTSTART;TZID=Europe/Warsaw:20191025T210000
DTEND;TZID=Europe/Warsaw:20191026T050000
DTSTAMP:20191018T110642Z
URL:https://night4u.pl/wydarzenia/wanna-get-high-sl/
SUMMARY:Wanna Get High? | SL
DESCRIPTION:Wanna get high? U nas tak działa muzyka! Najlepsze brzmienia i
  najlepsze imprezy tylko w Ego! Za sterami niezapomnianego wieczoru w nasz
 ym klubie staje DJ SL. W piątek wszyscy #widzimysiewego \n\nRezerwacje st
 olików \noraz oferta dla grup zorganizowanych:\n+ 48 731 351 351\n\n▬ 2
 5.10.2019\n▬ Lista FB: free do 22.00\n▬ Wejście od 21 roku życia (lu
 b za okazaniem legitymacji studenckiej)\n▬ Karty klubowe EGO: Free
ATTACH;FMTTYPE=image/jpeg:https://night4u.pl/wp-content/uploads/2019/10/78
 445_image_72646870_10156980116459285_5530499348334379008_o.jpg
CATEGORIES:pomorskie
LOCATION:Ego Sopot\, ul. Bohaterów Monte Cassino 53\, Sopot\, 81-767\, Pol
 and
GEO:54.444297;18.566687
X-APPLE-STRUCTURED-LOCATION;VALUE=URI;X-ADDRESS=ul. Bohaterów Monte Cassin
 o 53\, Sopot\, 81-767\, Poland;X-APPLE-RADIUS=100;X-TITLE=Ego Sopot:geo:54
 .444297,18.566687
END:VEVENT
BEGIN:VTIMEZONE
TZID:Europe/Warsaw
X-LIC-LOCATION:Europe/Warsaw
BEGIN:DAYLIGHT
DTSTART:20190331T030000
TZOFFSETFROM:+0100
TZOFFSETTO:+0200
TZNAME:CEST
END:DAYLIGHT
END:VTIMEZONE
END:VCALENDAR