BEGIN:VCALENDAR
VERSION:2.0
PRODID:-//wp-events-plugin.com//7.2.3.1//EN
TZID:Europe/Warsaw
X-WR-TIMEZONE:Europe/Warsaw
BEGIN:VEVENT
UID:34659@night4u.pl
DTSTART;TZID=Europe/Warsaw:20191207T200000
DTEND;TZID=Europe/Warsaw:20191207T230000
DTSTAMP:20200401T082102Z
URL:https://night4u.pl/wydarzenia/waq-waq-kingdom-alchemia-krakow/
SUMMARY:WaqWaq Kingdom (Japan) // Scotch Egg and Kiki Hitomi
DESCRIPTION:WaqWaq Kingdom to japoński duet tribalowy w składzie Kiki Hit
 omi i Shigeru Ishihara. Oboje pochodzą z Japonii\, mieszkali przez ponad 
 dekadę w Wielkiej Brytanii\, a obecnie rezydują w Lipsku i Berlinie.\nIc
 h muzyka nagina granice czasu i dźwięku. Niczym w psychodelicznym garnku
  japońskiego nabe mieszają się tu  folkowy styl Minyo z jamajskim dance
 hallem\, footworkiem\, dubem\, techno\, plemienną muzyką polirytmiczną\
 , i ścieżkami dźwiękowymi Super Nintendo.\n\nTeksty i wizualizacje cze
 rpią ze starożytnej mitologii Shinto i japońskich festiwali matsuri\, k
 tóre odbywają się na cześć miejscowych bogów\, kami-sama. Hipnotyczn
 e i szamańskie występy na żywo WaqWaq Kingdom to intensywne doświadcze
 nie\, w trakcie którego animistyczne korzenie mieszają się z estetyką 
 miejskich neonów.\n\nShigeru Ishihara jest znany przede wszystkim jako le
 genda breakcore\, DJ Scotch Egg\, ale także z gry na basie w Seefeel (War
 p Records)\, projekcie Devilman i Small But Hard. \nKiki Hitomi jest wokal
 istką znaną z takich projektów jak King Midas Sound (Ninja Tune)\, Blac
 k Chow\, japońskiego duetu Dokkebi Q i projektu NoinoNoinoNoino. Jej dobr
 ze przyjęty solowy debiutancki album „Karma No Kusari” ukazał się w
  2016 roku (Jahtari).\n\nDebiutancki album “Shinsekai” ukazał się w 
 2017 (Jahtari). Portal The Quietus pisał wówczas o muzykach: “Ich ogro
 mnie odmienne podejście muzyczne daje coś więcej niż tylko sumę czę
 ści\, wykręcając z podstawowych elementów reggae prawdziwie nową\, na
 sączoną syntezatorem psychodelię”. Najnowszym wydawnictwem WaqWaq Kin
 gdom jest zapis koncertu na żywo – “WaqWaq Kingdom Live At Bassmæssa
 ge Leipzig” (Jahtari\, 2019)\n\nBILETY : 30 zł przedsprzedaż\, 40 zł 
 w dniu koncertu\n\nBC http://phantomlimblabel.bandcamp.com/album/essaka-ho
 isa\nSPOT https://open.spotify.com/artist/4in9NY36a5EllSTje5liC5?si=s82dJ9
 9UTVet1TiN9ICleA\nINSTA https://www.instagram.com/waqwaqkingdom/?hl=en
ATTACH;FMTTYPE=image/jpeg:https://night4u.pl/wp-content/uploads/2019/11/90
 071_image_77120167_2494097657294457_7821482371999334400_n.jpg
CATEGORIES:małopolskie
LOCATION:Klub Alchemia\, ul. Estery 5 (róg Estery i Placu Nowego) 31-056 K
 raków\, Kraków\, 31-056\, Poland
GEO:50.052061;19.944912
X-APPLE-STRUCTURED-LOCATION;VALUE=URI;X-ADDRESS=ul. Estery 5 (róg Estery i
  Placu Nowego) 31-056 Kraków\, Kraków\, 31-056\, Poland;X-APPLE-RADIUS=1
 00;X-TITLE=Klub Alchemia:geo:50.052061,19.944912
END:VEVENT
BEGIN:VTIMEZONE
TZID:Europe/Warsaw
X-LIC-LOCATION:Europe/Warsaw
BEGIN:STANDARD
DTSTART:20191027T020000
TZOFFSETFROM:+0200
TZOFFSETTO:+0100
TZNAME:CET
END:STANDARD
END:VTIMEZONE
END:VCALENDAR