BEGIN:VCALENDAR
VERSION:2.0
PRODID:-//wp-events-plugin.com//7.2.3.1//EN
TZID:Europe/Warsaw
X-WR-TIMEZONE:Europe/Warsaw
BEGIN:VEVENT
UID:27824@night4u.pl
DTSTART;TZID=Europe/Warsaw:20190928T220000
DTEND;TZID=Europe/Warsaw:20190929T010000
DTSTAMP:20190916T211159Z
URL:https://night4u.pl/wydarzenia/warsaw-african-dance-party/
SUMMARY:Warsaw African Dance Party
DESCRIPTION:Warsaw expats and Polish Internationals\, \n\nAfrican and world
  music rhythms party invites you to come join the dance floor with amazing
  colorful people from all over the world enjoying the atmospheres from Afr
 ica to Latin America back and ford! \nVarious artists from different kinds
  will be present to heat up the party including Moribaya band\, Madrugada 
 band\, Ayoub Houmanna and  the one and only Christopher Li'nard Jackson.\n
 \nSee you at Harenda\n10zl for entrance.\n\n#DaceParty #African #Latino
ATTACH;FMTTYPE=image/jpeg:https://night4u.pl/wp-content/uploads/2019/09/64
 668_image_70452303_2411256188911874_4036800505509314560_o.jpg
CATEGORIES:mazowieckie
LOCATION:Klub Harenda\, Krakowskie Przedmieście 4\, Srodmiescie\, 00-325\,
  Poland
GEO:52.238783;21.018876
X-APPLE-STRUCTURED-LOCATION;VALUE=URI;X-ADDRESS=Krakowskie Przedmieście 4\
 , Srodmiescie\, 00-325\, Poland;X-APPLE-RADIUS=100;X-TITLE=Klub Harenda:ge
 o:52.238783,21.018876
END:VEVENT
BEGIN:VTIMEZONE
TZID:Europe/Warsaw
X-LIC-LOCATION:Europe/Warsaw
BEGIN:DAYLIGHT
DTSTART:20190331T030000
TZOFFSETFROM:+0100
TZOFFSETTO:+0200
TZNAME:CEST
END:DAYLIGHT
END:VTIMEZONE
END:VCALENDAR