BEGIN:VCALENDAR
VERSION:2.0
PRODID:-//wp-events-plugin.com//7.2.3.1//EN
TZID:Europe/Warsaw
X-WR-TIMEZONE:Europe/Warsaw
BEGIN:VEVENT
UID:26973@night4u.pl
DTSTART;TZID=Europe/Warsaw:20191102T180000
DTEND;TZID=Europe/Warsaw:20191103T020000
DTSTAMP:20191102T085309Z
URL:https://night4u.pl/wydarzenia/warsaw-diwali-with-fireworks-festiwal-sw
 iatel/
SUMMARY:Warsaw: Diwali Celebration / Festiwal Świateł 2019
DESCRIPTION:Diwali celebration Warsaw 2019\n\nDiwali is India's biggest fes
 tival and most important holiday of the year. It’s also called the festi
 val of lights! Recently\, this festival of lights has become popular in Po
 land as well!\n\nSo why not we celebrate it in Warsaw\, in an authentic wa
 y?\n\nWe cordially invite you all to join us and celebrate Diwali with us!
 \nLoads of attractions have been planned to entertain you!\n\nCultural sho
 ws\, dance performances\, music concerts\, games &amp\; fun activities\, I
 ndian food festival\, Henna and Deejay dance party are few of the attracti
 ons among many other wonderful program which we have planned for you.\n\nA
 ttractive prizes are waiting for you to win during lucky draw and few full
 -filled family games. So keep your tickets safe! :)\n\nIt’s a day when w
 e all have to be together with family and friends\, and spend a memorable 
 time.\n\nPlace: CITY HALL\n            Ul.Tadeusza Borowskiego 2\, Warsaw\
 nDate: 2.11.2019\nTime: 18:00 – 2:00\nEntry:  Advance booking: 20 zl\nOn
  the day of the event: 25 zl\n\nAdvance booking:\nYou don't need to go any
 where to buy the tickets!\nSimply send an email to reservation.razvievents
 @gmail.com with your:\n\nFull name:\nPhone number:\nNumber of tickets you 
 need:\n\nWe will reserve the tickets for you. You can collect it at the do
 or when you come for the event.\n\nEmail address: reservation.razvievents@
 gmail.com\n\nPLEASE NOTE:\n- Incase you want to cancel your reservation\, 
 please send an email no later than 1.11.2019.\n\nProgram includes:\nHindus
 tani classical song performance\nSemi classical dance performance\nTamil /
  Telugu song performance\nBollywood dance performances\nClassical dance pe
 rformances\nSouth Indian dance performances\nDiwali speech by kids\nAdults
  Games\nkids Games\nKids Dance performances\nShort play about Diwali by ki
 ds\nHaryanvi dance performance\nOriental food stalls\nFire works\nDeejay d
 ance party\nAnd much more…\n\nLimited seats available\, so we request yo
 u to get tickets at the earliest possible time\n\nIf you need any further 
 information\, please contact us.
ATTACH;FMTTYPE=image/jpeg:https://night4u.pl/wp-content/uploads/2019/10/62
 882_image_72458651_2632131027015137_5095908164751065088_o.jpg
CATEGORIES:mazowieckie
LOCATION:Production and Event House - City Hall - Warszawa\, Production and
  Event House CITY HALL\, Borowskiego 2\, Warsaw\, 03-475\, Poland
GEO:52.259;21.0322
X-APPLE-STRUCTURED-LOCATION;VALUE=URI;X-ADDRESS=Production and Event House 
 CITY HALL\, Borowskiego 2\, Warsaw\, 03-475\, Poland;X-APPLE-RADIUS=100;X-
 TITLE=Production and Event House - City Hall - Warszawa:geo:52.259,21.0322
END:VEVENT
BEGIN:VTIMEZONE
TZID:Europe/Warsaw
X-LIC-LOCATION:Europe/Warsaw
BEGIN:STANDARD
DTSTART:20191027T020000
TZOFFSETFROM:+0200
TZOFFSETTO:+0100
TZNAME:CET
END:STANDARD
END:VTIMEZONE
END:VCALENDAR