BEGIN:VCALENDAR
VERSION:2.0
PRODID:-//wp-events-plugin.com//7.2.3.1//EN
TZID:Europe/Warsaw
X-WR-TIMEZONE:Europe/Warsaw
BEGIN:VEVENT
UID:42803@night4u.pl
DTSTART;TZID=Europe/Warsaw:20200116T220000
DTEND;TZID=Europe/Warsaw:20200117T050000
DTSTAMP:20200116T085047Z
URL:https://night4u.pl/wydarzenia/warsaw-shore-x-karova-x-16-01-20-x-czwar
 tek/
SUMMARY:Warsaw Shore x Karova x 16.01.20 x Czwartek
DESCRIPTION:‼️📣TEGO JESZCZE NIE BYŁO📣‼️\n🎥Nagrywamy progr
 am Warsaw Shore🎬\n\n🍹🍾Imprezuj z całym składem\n              W
 arsaw Shore💃🕺\n\n🔴EKIPA Z WARSZAWY🌆🔴\nzawita w klubie Karov
 a już 16.01.2020 (czwartek)!\n\nTej nocy  Przyjedzie cały skład Warsaw 
 Shore \n➖EWELONĄ\,\n➖DIVĄ\,\n➖SPIKEREM\,\n➖KASJUSZEM\n➖ -i Inn
 ymi‼️‼️ \n\n\n        🎶🎶🎶 DJ KOALA 🎶🎶🎶\n➖Zaczn
 iemy lekkim Hause\, a skończymy na na hitach z najlepszych festiwali świ
 ata w piekielnie mocnych wersjach ‼️‼️\n\n✔️START 22:00✔️\
 n✔️WEJŚCIE 20ZŁ✔️\n💃Przyjdź i  baw się z nami🕺\n✳️No
 c jest nasza ✳️\n\n---------------------------------------------------
 ---------------------------------------------\n\n📣📣IT WASN’T THERE
  YET! ‼️\n‼️We are recording the Warsaw Shore program‼️🌆\n\
 nHave fun with the whole team Warsaw Shore💃🕺🍹\n\nCREW FROM WARSAW
  will come to Karova club on 16.01.2020\n\nThis night we can see the whole
  team like: \n👉 EVELONA\n👉	DIVA\n👉	SPIKER\n👉	KASJUSZ\n👉	I i
 nni \n\n📀DJ Koala will play for you EDM and House music\n\nStart: 22:00
 \nEntry: 20zł\n\n\nCome and show them how to have fun\nThis night is ours
 .🕺💃🍹
ATTACH;FMTTYPE=image/jpeg:https://night4u.pl/wp-content/uploads/2020/01/13
 5864_image_81953112_1089613774723973_8849894694545522688_n.jpg
CATEGORIES:mazowieckie
LOCATION:Karova\, Karowa 31\, Warsaw\, 00-324\, Poland
GEO:52.24257;21.018391
X-APPLE-STRUCTURED-LOCATION;VALUE=URI;X-ADDRESS=Karowa 31\, Warsaw\, 00-324
 \, Poland;X-APPLE-RADIUS=100;X-TITLE=Karova:geo:52.24257,21.018391
END:VEVENT
BEGIN:VTIMEZONE
TZID:Europe/Warsaw
X-LIC-LOCATION:Europe/Warsaw
BEGIN:STANDARD
DTSTART:20191027T020000
TZOFFSETFROM:+0200
TZOFFSETTO:+0100
TZNAME:CET
END:STANDARD
END:VTIMEZONE
END:VCALENDAR