BEGIN:VCALENDAR
VERSION:2.0
PRODID:-//wp-events-plugin.com//7.2.3.1//EN
TZID:Europe/Warsaw
X-WR-TIMEZONE:Europe/Warsaw
BEGIN:VEVENT
UID:50885@night4u.pl
DTSTART;TZID=Europe/Warsaw:20210924T210000
DTEND;TZID=Europe/Warsaw:20210925T050000
DTSTAMP:20210908T144818Z
URL:https://night4u.pl/wydarzenia/warszawska-integracja-studencka-%e2%98%8
 6-24-09-%e2%98%86-klub-park-%e2%98%86/
SUMMARY:Warszawska Integracja Studencka ☆ 24.09 ☆ Klub Park ☆
DESCRIPTION:Startuje kolejna edycja największej Integracji Studenckiej w P
 olsce! Będzie to 4 edycja tego wydarzenia w WARSZAWIE! Spotkamy się po r
 az pierwszy w nadchodzącym roku akademickim\, aby wspólnie się zintegro
 wać w największym warszawskim klubie! ♥♡ \n\n☞☞ Klub uczestnicz
 ący w wydarzeniu  to: \n\n✘ Klub Park jak sama nazwa wskazuje mieści s
 ię w parku i  pomieści około 2000 osób!! Do dyspozycji uczestników r
 ównież impreza w wielkim ogródku przynależącym do klubu!! \n✘ Patio
  Park Nite (wielki ogródek obok klubu)\n\n☞☞Ta impreza już na stałe
  wpisała się w kalendarz studenckich wydarzeń i za każdym razem zostaw
 ia po sobie nową historię! Czas pokazać jak bawi się WARSZAWA! \n☞
 ☞Dołącz do nas i razem z nami buduj kolejną imprezę pamiątkę - kt
 órą będziesz wspominać bardzo długo! \n\n----------------------------
 ----\nStudencie - 24 września - piątek - największy warszawski klub z w
 ielkim PATIO - obecność obowiązkowa! \n\n☞☞☞ Nowe znajomości!\n
 ☞☞☞ Wspólna zabawa i integracja!\n☞☞☞ Tysiące uczestników (
 nie możesz tego przegapić!)\n\n----------------------------------\n►
 ►Wejściówki ◄◄\n\n📢 BILETY ONLINE 🔖 📢\nLink do zakupu 
 👉 http://kbq.pl/61982\n\nBilety online w przedsprzedaży po 30 zł (gwa
 rancja wejścia ze względu na duże zainteresowanie imprezą)\n\nBilety w
  dniu imprezy na wejściu po 30 zł od godz. 20:00! \n\n------------------
 ----------------\n\n📢 UWAGA 📢 Dołączcie również do pozostałych 
 wydarzeń studenckich w Warszawie!! Kliknijcie poniżej "wezmę udział" a
  nic was nie ominie!!\n\n🕺Wielkie Otrzęsiny Warszawy - https://fb.me/e
 /gGJtgLjX7\n\n------------------------------------\n\nRegulamin:\n\n1.Impr
 eza odbywa się w godzinach 21.00 – 5.00\n\n2.Impreza odbywa się wyłą
 cznie na terenie klubów wymienionych poniżej: Klub Park &amp\; Patio Par
 k Nite\n\n3. Uczestnicy otrzymują opaskę lub wymieniają bilet na opask
 ę\, która upoważnia do wstępu do lokali biorących udział w wydarzeni
 u.
ATTACH;FMTTYPE=image/jpeg:https://night4u.pl/wp-content/uploads/2021/08/18
 5726_image_156397965_1031836670674785_3312782039976117668_n.jpg
CATEGORIES:mazowieckie
LOCATION:Klub Park\, Al. Niepodległości 196\, Warsaw\, 00-637\, Poland
GEO:52.21393;21.00787
X-APPLE-STRUCTURED-LOCATION;VALUE=URI;X-ADDRESS=Al. Niepodległości 196\, 
 Warsaw\, 00-637\, Poland;X-APPLE-RADIUS=100;X-TITLE=Klub Park:geo:52.21393
 ,21.00787
END:VEVENT
BEGIN:VTIMEZONE
TZID:Europe/Warsaw
X-LIC-LOCATION:Europe/Warsaw
BEGIN:DAYLIGHT
DTSTART:20210328T030000
TZOFFSETFROM:+0100
TZOFFSETTO:+0200
TZNAME:CEST
END:DAYLIGHT
END:VTIMEZONE
END:VCALENDAR