BEGIN:VCALENDAR
VERSION:2.0
PRODID:-//wp-events-plugin.com//7.2.3.1//EN
TZID:Europe/Warsaw
X-WR-TIMEZONE:Europe/Warsaw
BEGIN:VEVENT
UID:19398@night4u.pl
DTSTART;TZID=Europe/Warsaw:20190615T200000
DTEND;TZID=Europe/Warsaw:20190616T050000
DTSTAMP:20190614T195410Z
URL:https://night4u.pl/wydarzenia/warszawski-import_yoruba/
SUMMARY:Warszawski Import_@Yoruba
DESCRIPTION:Panie i Panowie po przerwie - powrót ! \nYorüba - dwóch taki
 ch\, którzy : grają świetnie\, łamią serca i imprezują wybitnie do b
 iałego rana. \n\nMax & Louis - Połączenie francuskiego szyku i polskieg
 o charakteru. Tak - to oni przejmują stery w sobotę. \n\nCzego możemy s
 ię spodziewać?\nSolidnej dawki :\ntech house | house | soulful house | d
 eephouse | techno\n\nTego dnia nikt nie wyjdzie z OSTRO bez pozytywnych VI
 BES.\n\nMuzyka idealna do sprawdzenia chłodnych drinków i mroźnej wóde
 czki!\n\nMusicie do nas wpaść !
ATTACH;FMTTYPE=image/jpeg:https://night4u.pl/wp-content/uploads/2019/06/46
 760_image_64280802_1104655766388747_54738726827327488_o.jpg
CATEGORIES:lubelskie
LOCATION:OSTRO\, ul. Krakowskie Przedmieście 25\, Lublin\, 20-002\, Poland
GEO:51.24798;22.56254
X-APPLE-STRUCTURED-LOCATION;VALUE=URI;X-ADDRESS=ul. Krakowskie Przedmieści
 e 25\, Lublin\, 20-002\, Poland;X-APPLE-RADIUS=100;X-TITLE=OSTRO:geo:51.24
 798,22.56254
END:VEVENT
BEGIN:VTIMEZONE
TZID:Europe/Warsaw
X-LIC-LOCATION:Europe/Warsaw
BEGIN:DAYLIGHT
DTSTART:20190331T030000
TZOFFSETFROM:+0100
TZOFFSETTO:+0200
TZNAME:CEST
END:DAYLIGHT
END:VTIMEZONE
END:VCALENDAR