BEGIN:VCALENDAR
VERSION:2.0
PRODID:-//wp-events-plugin.com//7.2.3.1//EN
TZID:Europe/Warsaw
X-WR-TIMEZONE:Europe/Warsaw
BEGIN:VEVENT
UID:25448@night4u.pl
DTSTART;TZID=Europe/Warsaw:20191019T220000
DTEND;TZID=Europe/Warsaw:20191020T050000
DTSTAMP:20191019T214945Z
URL:https://night4u.pl/wydarzenia/warsztaty-z-malowania-trawy-na-zielono/
SUMMARY:Warsztaty z malowania trawy na zielono
DESCRIPTION:Na świecie od kilkudziesięciu lat funkcjonują firmy zajmują
 ce się malowaniem trawników na zielono.\nMy również pomalujemy co niec
 o na zielono\, ale dla odmiany przy barze oraz na parkiecie \;)\n\nDyskote
 ki weselne w Gorzko Gorzko to:\npociągi\, kółeczka\, kaczuszki i inne p
 olonezy.\nO godz. 2:00 kultowe oczepiny.\nPrzez całą noc szampan\, stoli
 k wiejski i najlepsza muzyka weselna.\n\n♥♥♥♥♥♥♥♥♥♥♥
 ♥♥♥♥♥♥♥♥♥♥♥♥♥\n▬▬▬▬▬▬▬▬▬▬▬
 ▬▬▬▬▬▬▬▬▬▬▬▬▬▬▬▬▬\n\nWstęp:\n[18+] - wy
 łącznie za okazaniem dokumentu tożsamości\n\n22:00-23:00 (Lista Fb fre
 e)\nPozostali - 10/20 PLN\n\n✮ Karty klubowe Gorzko Gorzko - darmowy wst
 ęp przez całą noc (jedna/uniwersalna karta do wszystkich naszych lokali
 ) ✮\n\nBez stroju formalnego\, ubierz się tak jak Ci wygodnie.\nAczkolw
 iek dresy\, bojówki itp. stroje zostawiamy sobie na inną okazję \;)\n\n
 ▬▬▬▬▬▬▬▬▬▬▬▬▬▬▬▬▬▬▬▬▬▬▬▬
 ▬▬▬▬\n\nGorzko Gorzko Sopot to klub\, w którym w każdy Piątek i
  Sobotę odbywają się dyskoteki weselne.\nWodzirej\, fotobudka\, muzyka 
 i zabawy weselne\, przekąski oraz powitalny szampan.\nTo tylko część z
  atrakcji\, których u nas doświadczycie.\n\nHej wesele\, hej wesele tań
 cowało... !
ATTACH;FMTTYPE=image/jpeg:https://night4u.pl/wp-content/uploads/2019/08/59
 684_image_69503940_2372830903044221_1931057458520784896_n.jpg
CATEGORIES:pomorskie
LOCATION:Gorzko Gorzko Sopot\, Armii Krajowej 111\, Sopot\, 81-824\, Poland
GEO:54.444101;18.55535
X-APPLE-STRUCTURED-LOCATION;VALUE=URI;X-ADDRESS=Armii Krajowej 111\, Sopot\
 , 81-824\, Poland;X-APPLE-RADIUS=100;X-TITLE=Gorzko Gorzko Sopot:geo:54.44
 4101,18.55535
END:VEVENT
BEGIN:VTIMEZONE
TZID:Europe/Warsaw
X-LIC-LOCATION:Europe/Warsaw
BEGIN:DAYLIGHT
DTSTART:20190331T030000
TZOFFSETFROM:+0100
TZOFFSETTO:+0200
TZNAME:CEST
END:DAYLIGHT
END:VTIMEZONE
END:VCALENDAR