BEGIN:VCALENDAR
VERSION:2.0
PRODID:-//wp-events-plugin.com//7.2.3.1//EN
TZID:Europe/Warsaw
X-WR-TIMEZONE:Europe/Warsaw
BEGIN:VEVENT
UID:43074@night4u.pl
DTSTART;TZID=Europe/Warsaw:20200125T190000
DTEND;TZID=Europe/Warsaw:20200125T203000
DTSTAMP:20200115T212708Z
URL:https://night4u.pl/wydarzenia/wasilewski-plays-wajda-koncert-w-och-tea
 trze/
SUMMARY:Wasilewski plays Wajda – koncert w Och-Teatrze
DESCRIPTION:Tworząc swoje filmy Andrzej Wajda współpracował z różnymi
  kompozytorami. Krzysztof Komeda\, Wojciech Kilar i Andrzej Korzyński zaz
 naczyli trwały ślad w kinie Mistrza. Nie da się też pominąć muzyki J
 ana Krenza\, Andrzeja Markowskiego\, Stanisława Radwana i Pawła Mykietyn
 a\, która wybrzmiewa w filmach reżysera realizowanych na różnych etapa
 ch jego twórczości. Podczas wieczoru w Och-Teatrze Marcin Wasilewski Tri
 o sięgnie do kina Wajdy – motywy znane i mniej rozpoznawalne stały si
 ę wyzwaniem dla jazzmanów w przedsięwzięciu zatytułowanym „Wasilews
 ki Plays Wajda”. \n\nŚwiatowej sławy jazzmani: pianista Marcin Wasilew
 ski\, kontrabasista Sławomir Kurkiewicz oraz perkusista Michał Miśkiewi
 cz nagrywają dla prestiżowej wytwórni fonograficznej ECM. Marcin Wasile
 wski Trio obchodzi właśnie 25-lecie istnienia. \n\nDzięki inicjatywie\,
  jaką stanowi koncert „Wasilewski Plays Wajda”\, Centrum Kultury Film
 owej im. Andrzeja Wajdy pragnie ożywiać pamięć o swoim Patronie\, rzuc
 ać nowe światło na jego twórczość\, \na także podkreślać siłę o
 ddziaływania jazzu na współczesną kulturę. \n\n„Wasilewski Plays Wa
 jda”\, 25 stycznia 2020 r.\, godz. 19:00\, bilety w cenie 80 zł i 50 z
 ł dostępne w kasie Och-Teatru oraz online: www.ochteatr.com.pl.\n\nORGAN
 IZATOR: Centrum Kultury Filmowej im. Andrzeja Wajdy\, Miasto Stołeczne Wa
 rszawa\n\nWSPÓŁORGANIZATOR: Urząd Marszałkowski Województwa Mazowieck
 iego. (Mazowsze serce Polski)\n\nPATRONI MEDIALNI:\nRMF Classic\, ELLE MAN
 \, Mówią Na Mieście\, Magazyn Filmowy SFP (Portalfilmowy.pl)\, Telewizj
 a Kino Polska\, Presto filmowe\, \nJazzPRESS\, JazzSoul.pl\, Jazz Forum
ATTACH;FMTTYPE=image/jpeg:https://night4u.pl/wp-content/uploads/2020/01/13
 7757_image_78828745_2445620308989052_4182027059322683392_o.jpg
CATEGORIES:mazowieckie
LOCATION:Teatr Och - Teatr\, Ochota\, Poland
GEO:52.214277;20.980151
X-APPLE-STRUCTURED-LOCATION;VALUE=URI;X-ADDRESS=Ochota\, Poland;X-APPLE-RAD
 IUS=100;X-TITLE=Teatr Och - Teatr:geo:52.214277,20.980151
END:VEVENT
BEGIN:VTIMEZONE
TZID:Europe/Warsaw
X-LIC-LOCATION:Europe/Warsaw
BEGIN:STANDARD
DTSTART:20191027T020000
TZOFFSETFROM:+0200
TZOFFSETTO:+0100
TZNAME:CET
END:STANDARD
END:VTIMEZONE
END:VCALENDAR