BEGIN:VCALENDAR
VERSION:2.0
PRODID:-//wp-events-plugin.com//7.2.3.1//EN
TZID:Europe/Warsaw
X-WR-TIMEZONE:Europe/Warsaw
BEGIN:VEVENT
UID:5713@night4u.pl
DTSTART;TZID=Europe/Warsaw:20190216T223000
DTEND;TZID=Europe/Warsaw:20190217T073000
DTSTAMP:20190131T143302Z
URL:https://night4u.pl/wydarzenia/watch-your-language-x-uk-x-prozak-2-0/
SUMMARY:Watch Your Language x UK x Prozak 2.0
DESCRIPTION:Kolejny raz spotkamy się by uważać na swój język - tym raz
 em wybierzemy się na wyspy ?? Gdy lekcje języka angielskiego w szkołach
  nie wystarczają\, a o brexicie nie możesz już słuchać - jedyne co po
 zostało to odwiedzić 2.0 i pozwolić naszym rezydentom przypomnieć pods
 tawy past tenses w akompaniamencie tylko brytyjskich kawałków ?\n\n[-1] 
 Watch Your Language\nVIT.\nBC GANG$TEPPAZ\nzebra\n\nDo 23:00: wejście FRE
 E dla osób “biorących udział” w wydarzeniu.\nPo 23:00: 10/20 PLN.\n
 \n---\n\nOnce again we’ll watch our language - this time choosing Great 
 Britain! ?? When english classes are not enough and you can’t really lis
 ten about that brexit anymore - the only thing you can do is to visit 2.0 
 and let our residents remind you of past tenses in the accompaniment of be
 st british bangers ?\n\n[-1] Watch Your Language\nVIT.\nBC GANG$TEPPAZ\nze
 bra\n\nBy 11:00pm: FREE entry for Facebook “going” list.\nAfter 11:00p
 m: 10/20 PLN.
ATTACH;FMTTYPE=image/jpeg:https://night4u.pl/wp-content/uploads/2019/01/17
 384_image_50962655_2126419254085479_1424744577406861312_o.jpg
CATEGORIES:małopolskie
LOCATION:Prozak 2.0\, Plac Dominikański 6\, Kraków\, 31-032\, Poland
GEO:50.058986;19.938203
X-APPLE-STRUCTURED-LOCATION;VALUE=URI;X-ADDRESS=Plac Dominikański 6\, Krak
 ów\, 31-032\, Poland;X-APPLE-RADIUS=100;X-TITLE=Prozak 2.0:geo:50.058986,
 19.938203
END:VEVENT
BEGIN:VTIMEZONE
TZID:Europe/Warsaw
X-LIC-LOCATION:Europe/Warsaw
BEGIN:STANDARD
DTSTART:20181028T020000
TZOFFSETFROM:+0200
TZOFFSETTO:+0100
TZNAME:CET
END:STANDARD
END:VTIMEZONE
END:VCALENDAR