BEGIN:VCALENDAR
VERSION:2.0
PRODID:-//wp-events-plugin.com//7.2.3.1//EN
TZID:Europe/Warsaw
X-WR-TIMEZONE:Europe/Warsaw
BEGIN:VEVENT
UID:50445@night4u.pl
DTSTART;TZID=Europe/Warsaw:20200425T200000
DTEND;TZID=Europe/Warsaw:20200425T223000
DTSTAMP:20200815T125251Z
URL:https://night4u.pl/wydarzenia/we-13/
SUMMARY:We 
DESCRIPTION:Kochamy lata 80. \nDlatego w sobotę zapraszamy Was przed ekran
 y a nasi rezydenci zagrają ulubione przeboje z tamtej pięknej epoki! \n-
  Kiano \n- Dj Raz Dwa \n- Dziewczyn \n\nLata 80. to słodki kicz\, Miami v
 ice\, A-team i Bill Cosby\, komedie z Chevy Chasem\, Akademia Policyjna\, 
 a także wielki rozkwit muzyki tanecznej – disco\, boogie\, funk\, pocz
 ątki hip-hopu.\n\n🏠 #zostańwdomu\n\nŁapcie też nasze playlisty #sł
 uchajwdomu na Spotify:\n🎶 https://spoti.fi/2JWxhcU\n🎶 https://spoti.
 fi/3aVag5U\n🎶 https://spoti.fi/3a1YSUu
ATTACH;FMTTYPE=image/jpeg:https://night4u.pl/wp-content/uploads/2020/08/18
 4104_image_94404632_3063494810383135_7409166125763657728_o.jpg
CATEGORIES:lubelskie
LOCATION:Dom Kultury\, ul. Krakowskie Przedmieście 19\, Lublin\, 20-002\, 
 Poland
GEO:51.24787;22.56342
X-APPLE-STRUCTURED-LOCATION;VALUE=URI;X-ADDRESS=ul. Krakowskie Przedmieści
 e 19\, Lublin\, 20-002\, Poland;X-APPLE-RADIUS=100;X-TITLE=Dom Kultury:geo
 :51.24787,22.56342
END:VEVENT
BEGIN:VTIMEZONE
TZID:Europe/Warsaw
X-LIC-LOCATION:Europe/Warsaw
BEGIN:DAYLIGHT
DTSTART:20200329T030000
TZOFFSETFROM:+0100
TZOFFSETTO:+0200
TZNAME:CEST
END:DAYLIGHT
END:VTIMEZONE
END:VCALENDAR