BEGIN:VCALENDAR
VERSION:2.0
PRODID:-//wp-events-plugin.com//7.2.3.1//EN
TZID:Europe/Warsaw
X-WR-TIMEZONE:Europe/Warsaw
BEGIN:VEVENT
UID:6063@night4u.pl
DTSTART;TZID=Europe/Warsaw:20190131T200000
DTEND;TZID=Europe/Warsaw:20190201T040000
DTSTAMP:20190201T053243Z
URL:https://night4u.pl/wydarzenia/we-2/
SUMMARY:WE 
DESCRIPTION:Rozgrzewka przed sesją akt II! \nWe LOVE 2000's! \n\nWspólnie
  z Wydziałowa Rada Samorządu Studenckiego WTiICh UTP w Bydgoszczy. oraz 
 Wydziałowa Rada Samorządu Studenckiego WHiBZ UTP w Bydgoszczy zapraszamy
  na pierwszą edycję jedynej takiej imprezy w Bydgoszczy! \n\nZ okazji zb
 liżającej się sesji chcemy Was zaprosić do sentymentalnej podróży w 
 czasie! Na listach przebojów Danzel\, Mandaryna\, Britney Spears... W int
 ernecie Gadu-Gadu i Nasza-Klasa ze znienawidzonym śledzikiem. Na nogach k
 lapki Kubota i w ręku Bravo... Jesteście już tam z nami? \n\nO muzyczne
  zaplecze tej niezwykłej imprezy zadba nasz rezydent DJ YARO \n\n\nStart 
 20:00\nWstęp: free\n \nMetro Club Bydgoszcz\, Długa 62 \n\n#sesja #metro
  #club #bydgoszcz #utp #whibz #wtiich
ATTACH;FMTTYPE=image/jpeg:https://night4u.pl/wp-content/uploads/2019/01/18
 154_image_50780504_2135439893168797_5440744822589620224_o.jpg
CATEGORIES:kujawsko-pomorskie
LOCATION:Metro Club Bydgoszcz\, Dluga 62\, Bydgoszcz\, 85-034\, Poland
GEO:53.12056;18.00141
X-APPLE-STRUCTURED-LOCATION;VALUE=URI;X-ADDRESS=Dluga 62\, Bydgoszcz\, 85-0
 34\, Poland;X-APPLE-RADIUS=100;X-TITLE=Metro Club Bydgoszcz:geo:53.12056,1
 8.00141
END:VEVENT
BEGIN:VTIMEZONE
TZID:Europe/Warsaw
X-LIC-LOCATION:Europe/Warsaw
BEGIN:STANDARD
DTSTART:20181028T020000
TZOFFSETFROM:+0200
TZOFFSETTO:+0100
TZNAME:CET
END:STANDARD
END:VTIMEZONE
END:VCALENDAR