BEGIN:VCALENDAR
VERSION:2.0
PRODID:-//wp-events-plugin.com//7.2.3.1//EN
TZID:Europe/Warsaw
X-WR-TIMEZONE:Europe/Warsaw
BEGIN:VEVENT
UID:11269@night4u.pl
DTSTART;TZID=Europe/Warsaw:20190405T220000
DTEND;TZID=Europe/Warsaw:20190406T050000
DTSTAMP:20190329T223344Z
URL:https://night4u.pl/wydarzenia/we-5/
SUMMARY:WE 
DESCRIPTION:WE ? 90's !\nKlasyki muzyki rozrywkowej- z lat 90 - najlepszy R
 AP ROCK POP DANCE HOUSE GRUNGE POLSKIE NAGRANIA!\n? KLASYKA ? KLASYKA ? KL
 ASYKA ?\nZa sterami tej imprezy - Dziewczyn & Kiano ❤️\n\nstart 22:00 
 / fb free 23 / 15pln\n+21 lat \n\n@ REZERWACJE @\nWszystkie informacje dot
 yczące rezerwacji:\n601-552-013\nagata.mietelska@dklublin.pl
ATTACH;FMTTYPE=image/jpeg:https://night4u.pl/wp-content/uploads/2019/03/29
 273_image_55719453_2295037820562175_7474668985527566336_o.jpg
CATEGORIES:lubelskie
LOCATION:Dom Kultury\, ul. Krakowskie Przedmieście 19\, Lublin\, 20-002\, 
 Poland
GEO:51.24787;22.56342
X-APPLE-STRUCTURED-LOCATION;VALUE=URI;X-ADDRESS=ul. Krakowskie Przedmieści
 e 19\, Lublin\, 20-002\, Poland;X-APPLE-RADIUS=100;X-TITLE=Dom Kultury:geo
 :51.24787,22.56342
END:VEVENT
BEGIN:VTIMEZONE
TZID:Europe/Warsaw
X-LIC-LOCATION:Europe/Warsaw
BEGIN:DAYLIGHT
DTSTART:20190331T030000
TZOFFSETFROM:+0100
TZOFFSETTO:+0200
TZNAME:CEST
END:DAYLIGHT
END:VTIMEZONE
END:VCALENDAR