BEGIN:VCALENDAR
VERSION:2.0
PRODID:-//wp-events-plugin.com//7.2.3.1//EN
TZID:Europe/Warsaw
X-WR-TIMEZONE:Europe/Warsaw
BEGIN:VEVENT
UID:27849@night4u.pl
DTSTART;TZID=Europe/Warsaw:20190928T220000
DTEND;TZID=Europe/Warsaw:20190929T050000
DTSTAMP:20190916T211522Z
URL:https://night4u.pl/wydarzenia/we-dont-need-no-education-john-james-liv
 e/
SUMMARY:We don't need no education | John James live
DESCRIPTION:We don't need no education\nWe don't need no thought control\nN
 o dark sarcasm in the classroom\nTeachers leave them kids alone\nHey\, tea
 chers\, leave them kids alone!\n\nNasze grono pedagogiczne na tą sobotę 
 nie pozwoli Wam nauczyć się niczego więcej poza dobrą zabawą w najlep
 szym wydaniu!\n\nJOHN JAMES:\nWokalista klubowy obecny na scenie od wielu 
 lat.Jego unikalny styl to mieszanka inspiracji z muzyki soulful house\, R&
 B\, Neo-Soul\, Funk Afro\, Bluesa i Jazzu.Zaczynał jako pieśniarz gospel
 \, a jego muzyczna pasja skierowała go ku innym stylistykom i kolaboracjo
 m z artystami z zagranicy i Polski. Nagrywał produkcje z muzykami hip-hop
 owymi (Mezo\, Tabb) jak i house'owymi (Seb Skalski\, Loui & Scibi).Obecnie
  pracuje z producenckim duo wspólnie tworząc trio Sick Live nagrywając 
 współcześnie brzmiącą muzykę czerpiącą z jego inspiracji i doświa
 dczeń.\n\nDAVE MAYER:\nDave MayerZaczynał w 1998 roku jeszcze na studiac
 h w rodzimej Holandii zainspirowany produkcjami takich legend jak Masters 
 At Work\, DJ Sneak\, Carl Cox. Od 2007 roku jego nazwisko stało się znan
 e szerzej dzięki współpracy z szefem Traxsource Brianem Tappertem oraz 
 producentami związanymi z wytwórnią Defected (Copyright\, Hardsoul). Je
 go styl DJ-ski oscyluje wokół brzmień soulful i deep house a silnym wok
 alnym akcentem.\n\nLEO S:\npolish Dj \, music producer \, open-minded cult
 ure representative\nrooted in trap \, dancehall \, afro music\n\nDJ ID: \n
 Działający aktywnie od 2012 roku DJ z Warszawy\, systematycznie rozkręc
 ający imprezy w całej Polsce. Podczas jego występów można usłyszeć 
 śmiałe eksperymenty z dobieraniem gatunków muzycznych takich jak: hipho
 p\, r'n'b i house. \nRezydent: La Playa\, Room13\, Level27\, Opera\, Na La
 to\, Capitol\n\nstart: 22:00\nwstęp: 20 zł\nkarty klubowe wejście FREE\
 ,\nlista FB do 23.00 wejście FREE \npokolenie 30+ wstęp macie za free - 
 szanujemy doświadczenie imprezowe\, tak więc pokażcie jak to się robi 
 - zapraszamy!\n\nselekcja\nwstęp od 21 lat\n*wejście do klubu na listę 
 fb jest jednorazowe w ciągu danej imprezy\, ponowny wstęp wiąże się z
  opłatą za wejście\n\nREZERWACJE:\nOliwia 504989948\nhttp://bit.ly/1NsN
 ghc\nRezerwacje on-line:\nhttps://emenago.com/inner/cart/220/a3f73e9d3f582
 b58e2f1311e0bb65fc1/pl\n\nZAPRASZAMY!\n-----------------------------------
 ---------------------\nentry:20 pln / club cards entry free / we offer fre
 e entrance for guests 30+ yo / fb list to 23:00 entry free\, the list clos
 es at 21:00 / entry from 21 years old / selection\n*entry to the club for 
 the fb list is disposable during that party\, another entry is connected w
 ith payment for the entry
ATTACH;FMTTYPE=image/jpeg:https://night4u.pl/wp-content/uploads/2019/09/64
 738_image_69987485_2995807190436354_2119211158190686208_n.jpg
CATEGORIES:wielkopolskie
LOCATION:Klub Czekolada Poznań\, Poznan\, Poland
GEO:52.40609;16.93264
X-APPLE-STRUCTURED-LOCATION;VALUE=URI;X-ADDRESS=Poznan\, Poland;X-APPLE-RAD
 IUS=100;X-TITLE=Klub Czekolada Poznań:geo:52.40609,16.93264
END:VEVENT
BEGIN:VTIMEZONE
TZID:Europe/Warsaw
X-LIC-LOCATION:Europe/Warsaw
BEGIN:DAYLIGHT
DTSTART:20190331T030000
TZOFFSETFROM:+0100
TZOFFSETTO:+0200
TZNAME:CEST
END:DAYLIGHT
END:VTIMEZONE
END:VCALENDAR