BEGIN:VCALENDAR
VERSION:2.0
PRODID:-//wp-events-plugin.com//7.2.3.1//EN
TZID:Europe/Warsaw
X-WR-TIMEZONE:Europe/Warsaw
BEGIN:VEVENT
UID:21867@night4u.pl
DTSTART;TZID=Europe/Warsaw:20190709T210000
DTEND;TZID=Europe/Warsaw:20190710T010000
DTSTAMP:20190709T223826Z
URL:https://night4u.pl/wydarzenia/we-love-beats-goscinnie-moo-latte/
SUMMARY:We Love Beats : gościnnie Moo Latte
DESCRIPTION:Patrząc na prognozy pogody na kolejny wtorek - postanowiłem p
 rzenieść audycję wyjątkowo na sale koncertową. Nie martwcie się\, kl
 imat pozostanie ten sam - dźwięki bitów i sceneria jak z mieszkania dod
 atkową niespodzianką wieczoru będzie występ świetnego beatmakera Moo 
 Latte !\n\nMoo Latte - polski beatmaker i kompozytor afrykańskiego pochod
 zenia mieszkający w Kopenhadze. Gitarzysta i producent grupy Bitamina. W 
 swojej muzyce łączy elementy hip hopu\, jazzu i muzyki etnicznej. Wykorz
 ystując sample\, samodzielnie nagrane instrumenty akustyczne i elektronic
 zne. Jego czwarty\, zeszłoroczny album “Syd” wydany na winylu zbiera 
 przychylne recenzje w Europie i USA oraz został uznany przez czołowego D
 uńskiego rapera Pera Versa w magazynie GAFFA za najlepszy duński album 2
 018. \nW swoich live setach Moo Latte remixuje swoje wydane już wcześnie
 j bity jak i dzieli się najnowszymi\, nieznanymi jeszcze nikomu szkicami.
  \n\nWejście : darmowe\n\nZaprasza WRB.
ATTACH;FMTTYPE=image/jpeg:https://night4u.pl/wp-content/uploads/2019/07/51
 826_image_66444220_2604009152984298_2515720812380553216_n.jpg
CATEGORIES:kujawsko-pomorskie
LOCATION:NRD Klub\, Browarna 6\, Torun\, 87-100\, Poland
GEO:53.011128;18.612081
X-APPLE-STRUCTURED-LOCATION;VALUE=URI;X-ADDRESS=Browarna 6\, Torun\, 87-100
 \, Poland;X-APPLE-RADIUS=100;X-TITLE=NRD Klub:geo:53.011128,18.612081
END:VEVENT
BEGIN:VTIMEZONE
TZID:Europe/Warsaw
X-LIC-LOCATION:Europe/Warsaw
BEGIN:DAYLIGHT
DTSTART:20190331T030000
TZOFFSETFROM:+0100
TZOFFSETTO:+0200
TZNAME:CEST
END:DAYLIGHT
END:VTIMEZONE
END:VCALENDAR