BEGIN:VCALENDAR
VERSION:2.0
PRODID:-//wp-events-plugin.com//7.2.3.1//EN
TZID:Europe/Warsaw
X-WR-TIMEZONE:Europe/Warsaw
BEGIN:VEVENT
UID:19643@night4u.pl
DTSTART;TZID=Europe/Warsaw:20190622T210000
DTEND;TZID=Europe/Warsaw:20190623T060000
DTSTAMP:20190619T003838Z
URL:https://night4u.pl/wydarzenia/we-love-reggaeton-ft-mr-czekolada-22-06/
SUMMARY:We Love Reggaeton ft. Mr Czekolada // 22.06
DESCRIPTION:Tego wieczoru królować u nas będzie REGGAETON! \nMr Czekolad
 a i Tofifi zadbają\, że przed 6:00 nie zejdziecie z parkietu! \n\n⭐️
  SOBOTA ⭐️\n\n➡️Start 21:00\n➡️Do 22:00 - wejście free\n➡
 ️22:00-23:00 - 10zł\n➡️Po 23:00 - 15zł\n\nBilet wstępu obowiązuj
 e do lokali:\nHelium Club\nRzut Beretem\nEl Cubano\nRIVIERA\n\nseats & tab
 les/ rezerwacje stolików\n☎️: 725700205 (wt-sob. 17:00-20:00)\nWejśc
 ie 18+ / DOOR SELECTION
ATTACH;FMTTYPE=image/jpeg:https://night4u.pl/wp-content/uploads/2019/06/47
 319_image_64664760_2307148656028215_8725134737934385152_o.jpg
CATEGORIES:lubelskie
LOCATION:El Cubano Lublin\, Hempla 5\, Lublin\, 20-077\, Poland
GEO:51.245544;22.558043
X-APPLE-STRUCTURED-LOCATION;VALUE=URI;X-ADDRESS=Hempla 5\, Lublin\, 20-077\
 , Poland;X-APPLE-RADIUS=100;X-TITLE=El Cubano Lublin:geo:51.245544,22.5580
 43
END:VEVENT
BEGIN:VTIMEZONE
TZID:Europe/Warsaw
X-LIC-LOCATION:Europe/Warsaw
BEGIN:DAYLIGHT
DTSTART:20190331T030000
TZOFFSETFROM:+0100
TZOFFSETTO:+0200
TZNAME:CEST
END:DAYLIGHT
END:VTIMEZONE
END:VCALENDAR