BEGIN:VCALENDAR
VERSION:2.0
PRODID:-//wp-events-plugin.com//7.2.3.1//EN
TZID:Europe/Warsaw
X-WR-TIMEZONE:Europe/Warsaw
BEGIN:VEVENT
UID:18980@night4u.pl
DTSTART;TZID=Europe/Warsaw:20190614T210000
DTEND;TZID=Europe/Warsaw:20190615T050000
DTSTAMP:20190611T180519Z
URL:https://night4u.pl/wydarzenia/we-will-rock-you-gamzoteka-vol-18/
SUMMARY:We Will Rock You // Gamzoteka vol. 18
DESCRIPTION:To bardzo wyjątkowy piątkowy wieczór.\nUsłyszymy największ
 e przeboje lat 70'-80'-90' oraz zespołu QUEEN. \n\nZapraszamy na 18. edyc
 ję Gamzoteki\, gdzie bawimy się jak na dobrej dyskotece\, a jej stale to
 warzyszącym elementem jest pokaz tańca towarzyskiego w wykonaniu Formacj
 i Tańca Towarzyskiego Politechniki Lubelskiej GAMZA!\n\n\nTo będzie szal
 ona noc\, ale co byśmy nie powiedzieli\, lepiej przyjść i to po prostu 
 przeżyć!\n________________________________________________\n\nStart 21:0
 0\nKlub zastrzega sobie prawo do selekcji gości +18.\n___________________
 _____________________________\n\nPrzedsprzedaż 4 złote\nBramka 10 złoty
 ch\n\nKliknij "wezmę udział" bo "zainteresowaną/ym" to można być co n
 ajwyżej kolejną kolejką przy barze.\n__________________________________
 ______________\n\nZnajdź nas również na:\nSnapchat: silence_club || Ins
 tagram: @silenceclub\n\n\n14.06.2019 (Piątek)\nSilenceClub\nRadziszewskie
 go 8\nLublin
ATTACH;FMTTYPE=image/jpeg:https://night4u.pl/wp-content/uploads/2019/06/45
 901_image_62160821_3024847227540266_6589922537348530176_o.jpg
CATEGORIES:lubelskie
LOCATION:SilenceClub\, Radziszewskiego 8\, Lublin\, 20-031\, Poland
GEO:51.246457;22.543797
X-APPLE-STRUCTURED-LOCATION;VALUE=URI;X-ADDRESS=Radziszewskiego 8\, Lublin\
 , 20-031\, Poland;X-APPLE-RADIUS=100;X-TITLE=SilenceClub:geo:51.246457,22.
 543797
END:VEVENT
BEGIN:VTIMEZONE
TZID:Europe/Warsaw
X-LIC-LOCATION:Europe/Warsaw
BEGIN:DAYLIGHT
DTSTART:20190331T030000
TZOFFSETFROM:+0100
TZOFFSETTO:+0200
TZNAME:CEST
END:DAYLIGHT
END:VTIMEZONE
END:VCALENDAR