BEGIN:VCALENDAR
VERSION:2.0
PRODID:-//wp-events-plugin.com//7.2.3.1//EN
TZID:Europe/Warsaw
X-WR-TIMEZONE:Europe/Warsaw
BEGIN:VEVENT
UID:10001@night4u.pl
DTSTART;TZID=Europe/Warsaw:20191023T220000
DTEND;TZID=Europe/Warsaw:20191024T042000
DTSTAMP:20191023T215342Z
URL:https://night4u.pl/wydarzenia/wednesday-is-cool-stevens-garlic-man-9/
SUMMARY:Wednesday is COOL! // 𝙂𝘼𝙍𝙇𝙄𝘾 𝙈𝘼𝙉
DESCRIPTION:WEDNESDAY IS COOL! 😎\n\n▶︎ Garlic Man Sound - muzyczny c
 zarodziej. Odrzuca wszelkie konwenanse i stara się robić wszystko na prz
 ekór. Związany grubym sznurem z muzyką elektroniczną\, która z biegie
 m czasu coraz to bardziej wpina korzenie w postać Garlic Man'a.\n\n🎶 D
 EEP / TECH / HOUSE / NU DISCO\n\n-----------------------------------------
 ---------\nSpragniony wrażeń?\n→ http://bit.ly/CoolturalnaKartaKoktajl
 owa\n\n・Start 22:00.\n・Wstęp tylko dla osób pełnoletnich.\n・Selek
 cja na wejściu - organizator może odmówić wejścia do klubu.
ATTACH;FMTTYPE=image/jpeg:https://night4u.pl/wp-content/uploads/2019/10/26
 559_image_72629991_1405134526331526_3190773131669143552_o.jpg
CATEGORIES:pomorskie
LOCATION:Cooltura Chmielna 101\, Chmielna 101\, Gdansk\, 80-748\, Poland
GEO:54.34722;18.65729
X-APPLE-STRUCTURED-LOCATION;VALUE=URI;X-ADDRESS=Chmielna 101\, Gdansk\, 80-
 748\, Poland;X-APPLE-RADIUS=100;X-TITLE=Cooltura Chmielna 101:geo:54.34722
 ,18.65729
END:VEVENT
BEGIN:VTIMEZONE
TZID:Europe/Warsaw
X-LIC-LOCATION:Europe/Warsaw
BEGIN:DAYLIGHT
DTSTART:20190331T030000
TZOFFSETFROM:+0100
TZOFFSETTO:+0200
TZNAME:CEST
END:DAYLIGHT
END:VTIMEZONE
END:VCALENDAR