BEGIN:VCALENDAR
VERSION:2.0
PRODID:-//wp-events-plugin.com//7.2.3.1//EN
TZID:Europe/Warsaw
X-WR-TIMEZONE:Europe/Warsaw
BEGIN:VEVENT
UID:24704@night4u.pl
DTSTART;TZID=Europe/Warsaw:20190814T220000
DTEND;TZID=Europe/Warsaw:20190815T050000
DTSTAMP:20190815T221012Z
URL:https://night4u.pl/wydarzenia/wednesday-party-sroda-klub-donkichot-sta
 rt-2200-2/
SUMMARY:Wednesday Party - (środa) Klub Donkichot Start 22:00
DESCRIPTION:WEDNESDAY PARTY - Klub DonKichot - 14.08 (ŚRODA) start 22:00\n
 \n\nWEDNESDAY PARTY\n\n\n*************************************************
 **\nSOBOTA DJ COMBO - CUBATON GÓRNY POKŁAD KLUBU DONKICHOT \n***********
 **************************************\nDJ Oneshot - R'n'B dancefloor\nREZ
 YDENT KLUB DONKICHOT\n*****************************************\nDj Kris -
  Latino dancefloor\nREZYDENT KLUB DONKICHOT\n*****************************
 *************\nDJ Combo - Latino dancefloor\nREZYDENT KLUB DONKICHOT\n****
 **************************************\nDj Marcel Latino dancefloor\nREZYD
 ENT NAJWIĘKSZYCH KLUBÓW AGLOMERAJI ŚLĄSKIEJ\n*************************
 *********************************************\nDJ Adi- Disco Polo danceflo
 or\nREZYDENT KLUB DONKICHOT\n************************************\nKaraoke
 \n\nTyle lat\, tyle weekendów\, tyle imprez\, a końca nie widać - zapra
 szamy na kolejna skandalicznie udaną imprezę w Klubie Don Kichot !!\n\nB
 ądźcie czujni\, już niedługo odpalimy dla Was ciekawe konkursy ! Klikn
 ij w "Lubię To" oraz "Otrzymuj Powiadomienia" na naszej stronie głównej
 :Klub DON Kichot. Bądź zawsze na bieżąco.\n\n\nTego wieczoru przestrze
 ń wypełnią gorące dźwięki oraz znane i lubiane przez wszystkich muzy
 czne hity dance\, pop\, latino\, reggae\, dancehall\, mash-up\, electro ho
 use\, hip-hop prezentowane przez naszych NAJLEPszych Dj'i : Dj KRIS\, Dj O
 neshot\, Dj Adi- sala disco polo\nTo będzie noc \,Noc pełna pożądania 
 i pasji\, tej nocy zmysły rozbudzają się coraz bardziej i bardziej\, pr
 zekształcając się w czyste pożądanie tańca i zabawy. Na parkiet wkra
 dnie się magia po...żądania i zniewolenia przy której nieśmiałość 
 ustąpi miejsca odwadze\, a szaleństwo weźmie górę nad codziennością
 . No bo nie sama praca i obowiązkami żyje człowiek.\nRelaks i miła atm
 osfera to podstawa każdego weekendu. Chcemy zapomnieć o stresach minione
 go tygodnia i dać się porwać przyjemnym doznaniom. Wszystkich\, pełnyc
 h energii do spożytkowania\, spragnionych gorącej klubowej atmosfery zap
 raszamy do Klubu Don Kichot. Czekaja na was najlepsze\, kuszace drinki w m
 ega promocyjnych\, gorących cenach\, przygotowane przez profesjonalną\, 
 zawsze czującą imprezę- Ekipę Don Kichota .Przestrzeń wypełnią gor
 ące dźwięki oraz znane i lubiane przez wszystkich muzyczne hity prezent
 owane przez naszych rezydentów. Przyjazny wystrój i profesjonalna obsłu
 ga\, stworzą niepowtarzalną atmosferę. Sala Dance\, Sala RnB\, Sala Lat
 ino\, Sala Karaoke\, Sala Disco Polo - cały lokal do Państwa dyspozycji.
 \nNie może Was zabraknąć\, już zarezerwowaliśmy dla was stolik… !!!
 \nDo zobaczenia na imprezie!\n#######################################\n\n\
 nKlub DON Kichot\nAl.NMP 64 | 42-200 Częstochowa\nrezerwacje: 79 444 0 88
 8 | start 22:00
ATTACH;FMTTYPE=image/jpeg:https://night4u.pl/wp-content/uploads/2019/08/58
 080_image_67836943_2309327475771433_8547685827637936128_o.jpg
CATEGORIES:śląskie
LOCATION:Klub DON Kichot\, Aleja Najświętszej Maryi Panny 64\, Czestochow
 a\, 42-200\, Poland
GEO:50.812498;19.105794
X-APPLE-STRUCTURED-LOCATION;VALUE=URI;X-ADDRESS=Aleja Najświętszej Maryi 
 Panny 64\, Czestochowa\, 42-200\, Poland;X-APPLE-RADIUS=100;X-TITLE=Klub D
 ON Kichot:geo:50.812498,19.105794
END:VEVENT
BEGIN:VTIMEZONE
TZID:Europe/Warsaw
X-LIC-LOCATION:Europe/Warsaw
BEGIN:DAYLIGHT
DTSTART:20190331T030000
TZOFFSETFROM:+0100
TZOFFSETTO:+0200
TZNAME:CEST
END:DAYLIGHT
END:VTIMEZONE
END:VCALENDAR