BEGIN:VCALENDAR
VERSION:2.0
PRODID:-//wp-events-plugin.com//7.2.3.1//EN
TZID:Europe/Warsaw
X-WR-TIMEZONE:Europe/Warsaw
BEGIN:VEVENT
UID:34330@night4u.pl
DTSTART;TZID=Europe/Warsaw:20191102T190000
DTEND;TZID=Europe/Warsaw:20191102T233000
DTSTAMP:20191101T233524Z
URL:https://night4u.pl/wydarzenia/weekend-w-aperitivo-dj-pawel-witkowski/
SUMMARY:Weekend w #Aperitivo // Dj Paweł Witkowski
DESCRIPTION:#Przyjaciele ! \nPogoda nas nie rozpieszcza ... ale mamy na to 
 sposób !\nSubtelne cocktaile\, uśmiechy\, znajomi\, gwar to wszystko gwa
 rantujemy w Aperitivo 👏🤩\nMuzykę zapewni - Dj Paweł Witkowski ! \n
 Rezerwujcie stoliki\, siadajcie przy barze\, czekamy !\n\nSTART - 19:00\nM
 UZYKA - Paweł Witkowski \nKOKTAJLE - Kamilos / Bonzo
ATTACH;FMTTYPE=image/jpeg:https://night4u.pl/wp-content/uploads/2019/10/88
 320_image_74673155_520266562158747_8057404839669268480_o.jpg
CATEGORIES:lubelskie
LOCATION:Bombardino Aperitivo Narutowicza\, Narutowicza 19\, Lublin\, 20-00
 4\, Poland
GEO:51.24622;22.56082
X-APPLE-STRUCTURED-LOCATION;VALUE=URI;X-ADDRESS=Narutowicza 19\, Lublin\, 2
 0-004\, Poland;X-APPLE-RADIUS=100;X-TITLE=Bombardino Aperitivo Narutowicza
 :geo:51.24622,22.56082
END:VEVENT
BEGIN:VTIMEZONE
TZID:Europe/Warsaw
X-LIC-LOCATION:Europe/Warsaw
BEGIN:STANDARD
DTSTART:20191027T020000
TZOFFSETFROM:+0200
TZOFFSETTO:+0100
TZNAME:CET
END:STANDARD
END:VTIMEZONE
END:VCALENDAR