BEGIN:VCALENDAR
VERSION:2.0
PRODID:-//wp-events-plugin.com//7.2.3.1//EN
TZID:Europe/Warsaw
X-WR-TIMEZONE:Europe/Warsaw
BEGIN:VEVENT
UID:31249@night4u.pl
DTSTART;TZID=Europe/Warsaw:20191014T230000
DTEND;TZID=Europe/Warsaw:20191015T030000
DTSTAMP:20191009T200629Z
URL:https://night4u.pl/wydarzenia/weekly-akademia-erasmus-party-free-entry
 -3/
SUMMARY:Weekly Akademia Erasmus Party | Free Entry
DESCRIPTION:Weekly Akademia Erasmus Party\nevery Monday starts at 11 PM\nAk
 ademia Club\, \nGrunwaldzka 67 ( vis a vis Kredka and Ołówek)\n\nFREE EN
 TRY\n\n07.10.2019\nDJ DRE\nProject A.R.A.\nDj Vicky\n\nNew academic year b
 egins\, let's start it with the best party in town. Take your good mood\, 
 put your dancing shoes and come to Akademia CLUB. We have everything you n
 eed and much more! Great place\,  best DJs and some specialities at the ba
 r's.\n\nCome and join best party in the city of Wroclove. \n\nDJs:\n\nDj M
 ichelle\n - This DJ plays all over Poland. He mixing music generes such as
  hip hop\, rnb\, afrobeats\, and house.\nHe is well known and respected DJ
  in all Poland \n\nDj Joe Black\n - Dj from Wroclaw\, always plays music f
 or people\, everyone love his music. He plays: latino\, reggaeton\, rnb\, 
 spain and black beats. \n\nDj DRE\n - Resident from one of club in Wroclaw
 \, he love play music in style like: spain\, latin\, reggaeton\, dancehall
 \, hip hop and house.\nHe always making good atmosfer with people and make
  them happy .\nDj Sobnoize\n - Young dj but with big skills\, you will nev
 er know what he will play next song. He always combine some generes like:\
 nHip hop vs House\, or reggaeton\, latin\, spain vs house. \n\nDj AFP\n - 
 This man is crazy he play big EDM track in diffrent style.\nYou will feel 
 like you are on big festivals exaple tommorowland\, Primavera Sound\, Glas
 tonbury or Ibiza Festival\n\nDvJ Sound Ball\n - Resident of Akademia club\
 , but everyone knows them becouse he  plays all over in Poland and Eu as a
  special guest. He produce music\, remixes and working with big stars and 
 companys from all over the world. He always say "peopel are beutifull and 
 make them happy is the best idea what you can do".\nHe playing for peopple
  with his own style: rnb\, hip hop\, latino\, spain\, mombahton\, reggaeto
 n\, dancehall\, house and edm music.\n\nSee you in Akademia Club!
ATTACH;FMTTYPE=image/jpeg:https://night4u.pl/wp-content/uploads/2019/10/72
 640_image_71910476_2449104368541393_4283739289415581696_o.jpg
CATEGORIES:dolnośląskie
LOCATION:Akademia\, Grunwaldzka 67\, Wroclaw\, 50-357\, Poland
GEO:51.11448;17.06641
X-APPLE-STRUCTURED-LOCATION;VALUE=URI;X-ADDRESS=Grunwaldzka 67\, Wroclaw\, 
 50-357\, Poland;X-APPLE-RADIUS=100;X-TITLE=Akademia:geo:51.11448,17.06641
END:VEVENT
BEGIN:VTIMEZONE
TZID:Europe/Warsaw
X-LIC-LOCATION:Europe/Warsaw
BEGIN:DAYLIGHT
DTSTART:20190331T030000
TZOFFSETFROM:+0100
TZOFFSETTO:+0200
TZNAME:CEST
END:DAYLIGHT
END:VTIMEZONE
END:VCALENDAR