BEGIN:VCALENDAR
VERSION:2.0
PRODID:-//wp-events-plugin.com//7.2.3.1//EN
TZID:Europe/Warsaw
X-WR-TIMEZONE:Europe/Warsaw
BEGIN:VEVENT
UID:26178@night4u.pl
DTSTART;TZID=Europe/Warsaw:20190823T210000
DTEND;TZID=Europe/Warsaw:20190825T030000
DTSTAMP:20190903T190426Z
URL:https://night4u.pl/wydarzenia/wehikul-czasu-ladies-night-w-club-wyszyn
 k/
SUMMARY:Wehikuł Czasu & Ladies Night w Club Wyszynk
DESCRIPTION:W piątek i w sobotę (23\, 24 sierpnia) w Club Wyszynk pobijam
 y rekord najlepszej imprezy ❗ ✌️ Najlepsza muzyka\, najpiękniejsze 
 kobiety\, najgorętsza atmosfera\, najzimniejsze piwko tylko w Club Wyszyn
 k Nie siedź w domu\, nawiązuj nowe znajomości i kontakty\, baw się z n
 ajlepszymi... \;) \n\nW piątek imprezę poprowadzi DJ Feel Night\, w sobo
 tę DJ K.J. ? Nie zabraknie starych i nowych kawałku z najlepszych muzycz
 nych albumów. Startujemy o 21:00. Panie do 23:00 wstęp - 1\,- PLN.  Czek
 ają na Was promocje na barze ? a nasze barmanki przygotują dla Was wyją
 tkowe drinki ? \n\nOtwarty będzie dla Was ogródek\, ten zadaszony i ten 
 pod parasolami ⛱ a także Taras nad Wisłokiem ? Od godziny 23:00 do 03:
 00 zapraszamy do Grill Budka nad Wisłokiem ❗\n\nZaproście znajomych i 
 zarezerwujcie bezpłatnie lożę. Widzimy się na weekendzie w Club Wyszyn
 k ❗\n\n★ Weekend PromoBar ★\n? Captain Jack w cenie 6 zł ❗\n? des
 ka dowolnych\, 10 shot'ów z karty w cenie 40 zł ❗\n\n? Jemy Na Imprezi
 e ❗\nOd godziny 21:00 do północy serwujemy pizzę 30cm ? Margherita\, 
 Capriciosa\, Salama\, Pollo\, Pepperoni\, Jalapeño\, Pesca oraz ? Kapsalo
 n i Frytki ?\n\n✘ 23\, 24 sierpnia (piątek\, sobota) ✘\n☛ wiek: 18+
 \n☛ wjazd: 5\,- PLN\, po godz. 22:00: 10\,- PLN\n☛ Panie do godziny 23
 :00 wchodzą za 1 złoty\n☛ masz dziś urodziny? wchodzisz za FREE\n☛ 
 obowiązuje: door selection\n☛ zaczynamy o 21:00\, gramy do 3:00\n☛ za
  konsoletą: piątek: DJ Feel Night\, sobota: DJ K.J.\n☛ VIP ROOM: zarez
 erwuj vip'owską salę do 10\, 20 osób w cenie 100\,- PLN\n☛ lokal klim
 atyzowany\n☛ ogrzewany ogródek\n☛ w całym klubie dostępne darmowe W
 i-Fi\n☛ nie odpowiadamy za rzeczy pozostawione na terenie klubu\n☛ obi
 ekt monitorowany\n☛ regulamin klubu: www.wyszynk.com/regulamin-klubu/\n\
 nBez stroju formalnego\, ubierz się tak jak Ci wygodnie. Aczkolwiek dresy
 \, bojówki itp. stroje zostawiamy sobie na inną okazję \;) \n\n☎ Reze
 rwacje ☎\nBezpłatne rezerwacje loży przyjmowane są pod numerem tel. 1
 3 4361227 od wtorku do piątku od godz. 17:00 do 22:00 oraz w sobotę od 1
 2:00 do 22:00 i niedzielę od godziny 12:00 do 20:00 ❗ Codziennie\, w sp
 rawie rezerwacji oraz organizacji eventów - od godziny 9:00 do 17:00 dost
 ępny jest dla Was numer 731 846 556 oraz 882 478 141 ❗\n\n? Chcesz zorg
 anizować swoje urodziny\, imieniny\, wieczór panieński\, czy kawalerski
  - ten dzień jest dla Ciebie. Zgłoś się do Nas ❗\n\nClub Wyszynk zas
 trzega sobie prawo do selekcji gości i może odmówić wstępu bez podani
 a przyczyny. Wstęp tylko dla osób pełnoletnich.
ATTACH;FMTTYPE=image/jpeg:https://night4u.pl/wp-content/uploads/2019/09/61
 197_image_68855272_398604260792982_2753560815444426752_o.jpg
CATEGORIES:podkarpackie
LOCATION:Pub &amp\; Club Wyszynk\, Okrzei 1\, Krosno\, 38-400\, Poland
GEO:49.696929;21.761701
X-APPLE-STRUCTURED-LOCATION;VALUE=URI;X-ADDRESS=Okrzei 1\, Krosno\, 38-400\
 , Poland;X-APPLE-RADIUS=100;X-TITLE=Pub & Club Wyszynk:geo:49.696929,21.76
 1701
END:VEVENT
BEGIN:VTIMEZONE
TZID:Europe/Warsaw
X-LIC-LOCATION:Europe/Warsaw
BEGIN:DAYLIGHT
DTSTART:20190331T030000
TZOFFSETFROM:+0100
TZOFFSETTO:+0200
TZNAME:CEST
END:DAYLIGHT
END:VTIMEZONE
END:VCALENDAR