BEGIN:VCALENDAR
VERSION:2.0
PRODID:-//wp-events-plugin.com//7.2.3.1//EN
TZID:Europe/Warsaw
X-WR-TIMEZONE:Europe/Warsaw
BEGIN:VEVENT
UID:14495@night4u.pl
DTSTART;TZID=Europe/Warsaw:20190504T200000
DTEND;TZID=Europe/Warsaw:20190505T040000
DTSTAMP:20190430T144338Z
URL:https://night4u.pl/wydarzenia/wehikul-czasu-x-dj-zbyszek-mechlik/
SUMMARY:Wehikuł Czasu x Dj Zbyszek Mechlik
DESCRIPTION:W najbliższą sobotę odpalamy wehikuł czasu! Gramy same muzy
 czne perełki minionych lat w klimatach disco\, dance nie zabraknie najnow
 szych hitów królujących na listach przebojów! Bawimy się do białego 
 rana w najgorętszej atmosferze w mieście:) ! Imprezę poprowadzi Dj Zbys
 zek Mechlik
ATTACH;FMTTYPE=image/jpeg:https://night4u.pl/wp-content/uploads/2019/04/36
 066_image_58662326_949309825271660_1240414596926275584_n.jpg
CATEGORIES:kujawsko-pomorskie
LOCATION:Dancing Gold\, Torun\, Poland
GEO:53.0108;18.606626
X-APPLE-STRUCTURED-LOCATION;VALUE=URI;X-ADDRESS=Torun\, Poland;X-APPLE-RADI
 US=100;X-TITLE=Dancing Gold:geo:53.0108,18.606626
END:VEVENT
BEGIN:VTIMEZONE
TZID:Europe/Warsaw
X-LIC-LOCATION:Europe/Warsaw
BEGIN:DAYLIGHT
DTSTART:20190331T030000
TZOFFSETFROM:+0100
TZOFFSETTO:+0200
TZNAME:CEST
END:DAYLIGHT
END:VTIMEZONE
END:VCALENDAR