BEGIN:VCALENDAR
VERSION:2.0
PRODID:-//wp-events-plugin.com//7.2.3.1//EN
TZID:Europe/Warsaw
X-WR-TIMEZONE:Europe/Warsaw
BEGIN:VEVENT
UID:45727@night4u.pl
DTSTART;TZID=Europe/Warsaw:20200214T220000
DTEND;TZID=Europe/Warsaw:20200215T050000
DTSTAMP:20200331T151219Z
URL:https://night4u.pl/wydarzenia/wehikul-sepie-milosci-nie-kochasz-walent
 ynki-lata-90-00/
SUMMARY:Wehikuł: Sępie Miłości nie kochasz (walentynki!) - lata '90/'00
DESCRIPTION:Wstań\, powiedz nie jestem sam!\n\nGotowi na miłosne uniesien
 ia i nostalgiczny szał? Spędź te Walentynki z Wehikułem i poczuj miło
 ść do hitów z przełomu lat 90 i 2000!\n \nNie chcesz chyba powrócić 
 jak Eos\nW lekkich jak motyl marzeniach...\n\nwlota 15 PLN (płatne na bra
 mce w dniu imprezy)
ATTACH;FMTTYPE=image/jpeg:https://night4u.pl/wp-content/uploads/2020/01/14
 8549_image_83678996_615145725939901_3254227158888873984_o.jpg
CATEGORIES:dolnośląskie
LOCATION:D.K. Luksus\, Wita Stwosza 16\, Wroclaw\, 50-148\, Poland
GEO:51.10958;17.03678
X-APPLE-STRUCTURED-LOCATION;VALUE=URI;X-ADDRESS=Wita Stwosza 16\, Wroclaw\,
  50-148\, Poland;X-APPLE-RADIUS=100;X-TITLE=D.K. Luksus:geo:51.10958,17.03
 678
END:VEVENT
BEGIN:VTIMEZONE
TZID:Europe/Warsaw
X-LIC-LOCATION:Europe/Warsaw
BEGIN:STANDARD
DTSTART:20191027T020000
TZOFFSETFROM:+0200
TZOFFSETTO:+0100
TZNAME:CET
END:STANDARD
END:VTIMEZONE
END:VCALENDAR