BEGIN:VCALENDAR
VERSION:2.0
PRODID:-//wp-events-plugin.com//7.2.3.1//EN
TZID:Europe/Warsaw
X-WR-TIMEZONE:Europe/Warsaw
BEGIN:VEVENT
UID:47843@night4u.pl
DTSTART;TZID=Europe/Warsaw:20200227T210000
DTEND;TZID=Europe/Warsaw:20200228T050000
DTSTAMP:20200226T155204Z
URL:https://night4u.pl/wydarzenia/wehikul-studenckiej-balangi-vibe/
SUMMARY:Wehikuł Studenckiej Balangi | Vibe
DESCRIPTION:*** ENGLISH DESCRIPTION BELLOW ***\n\nRazem z Samorząd Student
 ów WSB Gdańsk zapraszamy wszystkich na Wehikuł Studenckiej Balangi! Daj
  się wpędzić w wir niezapomnianej imprezy i doznań muzycznych. Studenc
 i z WSB wchodzą za FREE!. #widzimysiewego już 27 lutego\, baw się razem
  z nami!\n\nBPM x PRESENTED BY VIBE \nDJ VIBE Official Profile zaprasza ws
 zystkich spragnionych muzycznych wrażeń na cykl imprez BPM do Klubu EGO!
 \n\nBEATS PER MINUTE\n\nCzyli twoje ulubione kawałki których jeszcze nie
  znasz\, impreza dla tych co wymagają\, ale też od siebie dają\, wszyst
 kie troski zostają na zewnątrz\, teraz liczy się tylko zabawa i bit\, k
 tóre z każda minutą wzniosą Cię wyżej i wyżej!\n\nRezerwacje stolik
 ów \noraz oferta dla grup zorganizowanych:\n+ 48 731 351 351\n\n▬ 27.02
 .2020\n▬ Lista FB: free do 22.00\n▬ Wejście od 21 roku życia (lub za
  okazaniem legitymacji studenckiej)\n▬ Wejście: 10 pln - 20 pln\n▬ Ka
 rty klubowe EGO: Free\n▬ Studenci WSB Gdańsk &amp\; Gdynia: Free\n\n\nB
 PM x PRESENTED BY VIBE \n\nDJ Vibe invites all the music experience cravin
 g people to the cycle of BPM parties to the EGO Club!\n\nBEATS PER MINUTE\
 n\nAll your favorite tracks\, that you still have not heard\, party for th
 e demanding clubbers\, that give back the energy. All the worries are left
  behind\, now its only beat and joy\, that fill raise you higher and highe
 r! \n\n▬ 27.02.2020\n▬  FB list: free till 22.00\n▬ Entrance from 21
  years old (Or with student ID)\n▬ FEE: 10 pln - 20 pln\n▬ EGO Clubcar
 ds : Free\n▬ Students of WSB Gdańsk &amp\; Gdynia: Free
ATTACH;FMTTYPE=image/jpeg:https://night4u.pl/wp-content/uploads/2020/02/16
 0847_image_84467593_10157301336204285_3305691097707053056_o.jpg
CATEGORIES:pomorskie
LOCATION:Ego Sopot\, ul. Bohaterów Monte Cassino 53\, Sopot\, 81-767\, Pol
 and
GEO:54.444297;18.566687
X-APPLE-STRUCTURED-LOCATION;VALUE=URI;X-ADDRESS=ul. Bohaterów Monte Cassin
 o 53\, Sopot\, 81-767\, Poland;X-APPLE-RADIUS=100;X-TITLE=Ego Sopot:geo:54
 .444297,18.566687
END:VEVENT
BEGIN:VTIMEZONE
TZID:Europe/Warsaw
X-LIC-LOCATION:Europe/Warsaw
BEGIN:STANDARD
DTSTART:20191027T020000
TZOFFSETFROM:+0200
TZOFFSETTO:+0100
TZNAME:CET
END:STANDARD
END:VTIMEZONE
END:VCALENDAR