BEGIN:VCALENDAR
VERSION:2.0
PRODID:-//wp-events-plugin.com//7.2.3.1//EN
TZID:Europe/Warsaw
X-WR-TIMEZONE:Europe/Warsaw
BEGIN:VEVENT
UID:26820@night4u.pl
DTSTART;TZID=Europe/Warsaw:20191010T220000
DTEND;TZID=Europe/Warsaw:20191011T060000
DTSTAMP:20191015T104335Z
URL:https://night4u.pl/wydarzenia/welcome-2-warsaw-flag-party-x-esn-warsaw
 -x-10-10-x-bank-club/
SUMMARY:Welcome 2 Warsaw Flag Party x ESN Warsaw x 10.10 x Bank Club
DESCRIPTION:Erasmus in Warsaw - ESN Warsaw United has an enormous pleasure 
 to invite you all for the OFFICIAL ERASMUS WELCOME TO WARSAW FLAG PARTY!!!
 \n\nThe adventure of your lifetime will soon begin and there is no better 
 way to start it than meeting your fellow Erasmus friends! Bring your flags
 \, dress up in national colours and show where you come from! \n\n10 ESN S
 ECTIONS\nMORE THAN 10 UNIVERSITIES\nOVER 2000 EXCHANGE STUDENTS\nONE CLUB 
 - BANK CLUB\n\nWHEN: 10.10.2019 / (Thursday) / 22.00\n\nWHERE: BANK CLUB\,
  Mazowiecka street 14.\n\nENTRANCE (only cash payments):\n15 ☆ with ESNc
 ard\n20 ☆ without ESNcard\n\n\nPOWERED BY:\nErasmus in Warsaw - ESN Wars
 aw United\n\n***\nPlease keep in mind that there is a selection at the ent
 rance of the club. We advice you to dress just a little bit more classy. \
 ;)
ATTACH;FMTTYPE=image/jpeg:https://night4u.pl/wp-content/uploads/2019/09/62
 545_image_69450839_2932805550127375_354620653468385280_o.jpg
CATEGORIES:mazowieckie
LOCATION:BANK CLUB\, Mazowiecka 14\, Warsaw\, 00-048\, Poland
GEO:52.23816;21.01309
X-APPLE-STRUCTURED-LOCATION;VALUE=URI;X-ADDRESS=Mazowiecka 14\, Warsaw\, 00
 -048\, Poland;X-APPLE-RADIUS=100;X-TITLE=BANK CLUB:geo:52.23816,21.01309
END:VEVENT
BEGIN:VTIMEZONE
TZID:Europe/Warsaw
X-LIC-LOCATION:Europe/Warsaw
BEGIN:DAYLIGHT
DTSTART:20190331T030000
TZOFFSETFROM:+0100
TZOFFSETTO:+0200
TZNAME:CEST
END:DAYLIGHT
END:VTIMEZONE
END:VCALENDAR