BEGIN:VCALENDAR
VERSION:2.0
PRODID:-//wp-events-plugin.com//7.2.3.1//EN
TZID:Europe/Warsaw
X-WR-TIMEZONE:Europe/Warsaw
BEGIN:VEVENT
UID:51285@night4u.pl
DTSTART;TZID=Europe/Warsaw:20211007T210000
DTEND;TZID=Europe/Warsaw:20211008T060000
DTSTAMP:20210908T144742Z
URL:https://night4u.pl/wydarzenia/welcome-back-students-07-10/
SUMMARY:Welcome Back Students! // 07.10
DESCRIPTION:( ENGLISH BELOW )\n\nNadchodzi jesień a wraz z nią nowy rok a
 kademicki 2021/2022! 🥳\n\nSpotkamy się po raz pierwszy w nadchodzącym
  roku akademickim aby wspólnie się zintegrować w najlepszych klubach w 
 Lublinie.\n\n⭐️ 1 bilet = 4 kluby ⭐️ \n1 ADRES - Zesłańców Sybi
 ru 5!\n\n➡️ GDZIE? \nUl. Zesłańców Sybiru 5 - budynek BIGMAR \n\n
 ⭐️ 1 KLUB - HELIUM CLUB - gramy największe hity\, mieszanka popu\, ho
 useu i hh!\n⭐️ 2 KLUB - KLUB RZUT BERETEM - gramy największe polskie 
 hity i 80\,90’s!\n⭐️ 3 KLUB - KLUB EL CUBANO - jedyny kubański klub
  w mieście! Gorący klimat Havany w samym centrum miasta.\n⭐️ 4 KLUB 
 - RIVIERA - Najlepsza letnia miejscówka w mieście na dachu!\n\n➡️ KI
 EDY? \n07.10.2021 \n\n➡️ BILETY: \n✖️ 21:00 - 23:00:\nLista FB - 1
 0 zł\nPozostali - 15 zł\n✖️ Po 23:00:\nWszyscy - 15 zł \n\n\nZapisu
 jcie tę datę - 7 października! \nCzas się poznać &lt\;3 \n\n\n\n\nFal
 l is coming and with it the new academic year 2021/2022!  🥳\nFor the fi
 rst time in the coming academic year\, we will gather in a team in the bes
 t clubs in Lublin.\n\n➡️ WHERE?\nUl. Zesłańców Sybiru 5 - BIGMAR bu
 ilding\n\n⭐️ 1 ticket = 4 clubs ⭐️\n 1 ADDRESS - Zesłańców Sybi
 ru 5!\n\n⭐️ 1 CLUB - HELIUM CLUB - we play hits\, a mix of pop and hou
 se hh!\n⭐️ 2 CLUB - KLUB RZUT BERETEM - we play Polish hits and 80.90!
 \n⭐️ 3 CLUB - EL CUBANO CLUB - the only Cuban club in the city! Hot Ha
 vana vibe right in the city center.\n⭐️ 4 CLUB - RIVIERA - The best su
 mmer rooftop seat in the city!\n\n➡️ WHEN:\n07.10.2021\n\n➡️ TICKE
 T:\n✖️ 21:00 - 23:00:\nFB list - PLN 10\nOthers - PLN 15\n✖️ After
  23:00:\nEveryone - PLN 15\n\n\nWrite down this date - October 7! \nTime t
 o get to know each other &lt\;3
ATTACH;FMTTYPE=image/jpeg:https://night4u.pl/wp-content/uploads/2021/08/18
 6855_image_240963646_3014176128857549_5221219563330348547_n.jpg
CATEGORIES:lubelskie
LOCATION:Helium Club\, Hempla 5\, Lublin\, 20-008\, Poland
GEO:51.245425;22.557276
X-APPLE-STRUCTURED-LOCATION;VALUE=URI;X-ADDRESS=Hempla 5\, Lublin\, 20-008\
 , Poland;X-APPLE-RADIUS=100;X-TITLE=Helium Club:geo:51.245425,22.557276
END:VEVENT
BEGIN:VTIMEZONE
TZID:Europe/Warsaw
X-LIC-LOCATION:Europe/Warsaw
BEGIN:DAYLIGHT
DTSTART:20210328T030000
TZOFFSETFROM:+0100
TZOFFSETTO:+0200
TZNAME:CEST
END:DAYLIGHT
END:VTIMEZONE
END:VCALENDAR