BEGIN:VCALENDAR
VERSION:2.0
PRODID:-//wp-events-plugin.com//7.2.3.1//EN
TZID:Europe/Warsaw
X-WR-TIMEZONE:Europe/Warsaw
BEGIN:VEVENT
UID:18938@night4u.pl
DTSTART;TZID=Europe/Warsaw:20190621T220000
DTEND;TZID=Europe/Warsaw:20190623T050000
DTSTAMP:20190611T180454Z
URL:https://night4u.pl/wydarzenia/welcome-summer-feat-somersby-21-22-06-li
 sta-facebook-free/
SUMMARY:Welcome Summer feat Somersby :: 21-22.06 Lista Facebook Free
DESCRIPTION:Welcome Summer. Weekend z  Somersby! \n\nJeśli rozpoczynać la
 to to tylko z Somersby. Przygotowaliśmy dla Was wyjątkowy weekend. Będz
 iecie mieli okazję napić się Somersby prosto z kega. W te gorące dni n
 ic tak dobrze nie smakuje jak zmrożone piwo. Dodatkowo przez cały weeken
 d w naszym ogródku The Mist Coffee & Garden będzie również mieli okazj
 ę napić się  Somersby. Wpadaj do nas na chill ze znajomymi za dnia a od
  22 zapraszamy na imprezę! \n\n\n✖ START: 22:00 ✖\nLista Facebook do 
 23 wchodzi za darmo. \nPo 23 wejście 15 zł / After 23 entrance 15 zł \n
 \n\n\nPromocje: \nSomersby - 7 zł\n\nDress code:\nElegant Casual \n\n\n\n
 seats & tables  / rezerwacje miejsc:\nMessanger \nclub@themistclub.eu\n☎
  +48 512-375-356
ATTACH;FMTTYPE=image/jpeg:https://night4u.pl/wp-content/uploads/2019/06/45
 813_image_62408219_366259520909633_4853696056778555392_o.jpg
CATEGORIES:lubelskie
LOCATION:The Mist Club\, Okopowa 5\, Lublin\, 20-022\, Poland
GEO:51.24548;22.5559
X-APPLE-STRUCTURED-LOCATION;VALUE=URI;X-ADDRESS=Okopowa 5\, Lublin\, 20-022
 \, Poland;X-APPLE-RADIUS=100;X-TITLE=The Mist Club:geo:51.24548,22.5559
END:VEVENT
BEGIN:VTIMEZONE
TZID:Europe/Warsaw
X-LIC-LOCATION:Europe/Warsaw
BEGIN:DAYLIGHT
DTSTART:20190331T030000
TZOFFSETFROM:+0100
TZOFFSETTO:+0200
TZNAME:CEST
END:DAYLIGHT
END:VTIMEZONE
END:VCALENDAR