BEGIN:VCALENDAR
VERSION:2.0
PRODID:-//wp-events-plugin.com//7.2.3.1//EN
TZID:Europe/Warsaw
X-WR-TIMEZONE:Europe/Warsaw
BEGIN:VEVENT
UID:19387@night4u.pl
DTSTART;TZID=Europe/Warsaw:20190619T210000
DTEND;TZID=Europe/Warsaw:20190620T040000
DTSTAMP:20190614T193505Z
URL:https://night4u.pl/wydarzenia/welcome-summer-sroda-19-06-dj-matdriver/
SUMMARY:Welcome Summer - środa 19.06 - DJ Matdriver
DESCRIPTION:Już w najbliższą środę - 19 czerwca w Cina Club witamy WAK
 ACJE !!! Zapraszamy Was na rozpoczęcie naszego wakacyjnego cyklu środowy
 ch imprez\, które prowadzić będą dla Was nasi rezydenci: Dee Push\, Tr
 iks oraz Matdriver\, a także zaproszeni przez nas goście specjalni. \n\n
 ☛ Data: 19.06 - ŚRODA  \n☛ Godzina: 21:00 \n☛ Miejsce: Klub Cina \n
 ☛ DJ Matdriver\n\nBezpłatna internetowa rezerwacja miejsc:\nwww.emenago
 .opole.pl
ATTACH;FMTTYPE=image/jpeg:https://night4u.pl/wp-content/uploads/2019/06/46
 737_image_62527679_2495878720475695_362498684346171392_o.jpg
CATEGORIES:opolskie
LOCATION:Cina Club\, Katowicka 55\, Opole\, 45-061\, Poland
GEO:50.667448;17.93523
X-APPLE-STRUCTURED-LOCATION;VALUE=URI;X-ADDRESS=Katowicka 55\, Opole\, 45-0
 61\, Poland;X-APPLE-RADIUS=100;X-TITLE=Cina Club:geo:50.667448,17.93523
END:VEVENT
BEGIN:VTIMEZONE
TZID:Europe/Warsaw
X-LIC-LOCATION:Europe/Warsaw
BEGIN:DAYLIGHT
DTSTART:20190331T030000
TZOFFSETFROM:+0100
TZOFFSETTO:+0200
TZNAME:CEST
END:DAYLIGHT
END:VTIMEZONE
END:VCALENDAR