BEGIN:VCALENDAR
VERSION:2.0
PRODID:-//wp-events-plugin.com//7.2.3.1//EN
TZID:Europe/Warsaw
X-WR-TIMEZONE:Europe/Warsaw
BEGIN:VEVENT
UID:28476@night4u.pl
DTSTART;TZID=Europe/Warsaw:20191009T210000
DTEND;TZID=Europe/Warsaw:20191010T030000
DTSTAMP:20191011T065955Z
URL:https://night4u.pl/wydarzenia/welcome-to-the-jungle-2/
SUMMARY:Welcome to the jungle !
DESCRIPTION:Razem z Uniwersytet Przyjemności zapraszamy wszystkich student
 ów na oficjalne rozpoczęcie roku akademickiego w naszym Klubie ! &lt\;3 
 \nPrzy okazji chcemy powitać studentów I roku - wypada się poznać\, bo
  pewnie zobaczymy się na niejednej wydziałówce.. \;)\n\nRuszamy o 21:00
  !\nWejście free dla wszystkich\nOd nas dostajecie 100 powitalnych shotó
 w &lt\;3\n\nNa barze:\npiwko 7zł\nshoty czystej 5zł\ndrink na wódce 10z
 ł\nwhisky Highland + pepsi 10zł\ni dużo innych promocji \n\nZagra dla W
 as weteran wydziałówek - DJ CUBI !\n\nDo zobaczenia ! &lt\;3
ATTACH;FMTTYPE=image/jpeg:https://night4u.pl/wp-content/uploads/2019/09/65
 922_image_70694786_2524929511126667_1206321971164348416_n.jpg
CATEGORIES:wielkopolskie
LOCATION:Klub 9stóp\, Piątkowska 92\, Poznan\, 60-649\, Poland
GEO:52.429505;16.917341
X-APPLE-STRUCTURED-LOCATION;VALUE=URI;X-ADDRESS=Piątkowska 92\, Poznan\, 6
 0-649\, Poland;X-APPLE-RADIUS=100;X-TITLE=Klub 9stóp:geo:52.429505,16.917
 341
END:VEVENT
BEGIN:VTIMEZONE
TZID:Europe/Warsaw
X-LIC-LOCATION:Europe/Warsaw
BEGIN:DAYLIGHT
DTSTART:20190331T030000
TZOFFSETFROM:+0100
TZOFFSETTO:+0200
TZNAME:CEST
END:DAYLIGHT
END:VTIMEZONE
END:VCALENDAR