BEGIN:VCALENDAR
VERSION:2.0
PRODID:-//wp-events-plugin.com//7.2.3.1//EN
TZID:Europe/Warsaw
X-WR-TIMEZONE:Europe/Warsaw
BEGIN:VEVENT
UID:26926@night4u.pl
DTSTART;TZID=Europe/Warsaw:20190921T220000
DTEND;TZID=Europe/Warsaw:20190922T050000
DTSTAMP:20190907T180342Z
URL:https://night4u.pl/wydarzenia/welcome-to-the-jungle-21-09-lista-fb-fre
 e-do-2300/
SUMMARY:Welcome To The Jungle // 21.09 // Lista FB Free do 23:00
DESCRIPTION:[ENGLISH VERSION BELOW]\n\nChcesz poczuć się jak w prawdziwej
  dżungli? 21 września w Shine będzie to możliwe!\n\nBędzie dziko\, b
 ędzie tropikalnie\, będzie gorąco! Gościem specjalnym będzie Dziubee 
 Drummer\, uczestnik Mam Talent TVN\, dodatkowo przewidzieliśmy występ gr
 upy Mulemba - Afrykański Zespół Taneczny.\n\nWidzimy się na Starowiśl
 nej 16!\n\nLINE-UP:\n\n✘✘✘ MAINSTAGE ✘✘✘\n\n✰ Dziubee Drumme
 r (Shine Special Guest/Zielona Góra)\n✰ ESKEY DJ (Shine Resident/Krakó
 w)\n✰ Fernando Gomez Dj (Shine Resident/Spain)\n✰ Mulemba - Afrykańsk
 i Zespół Taneczny\n\n✘✘✘ sala R'n'B ✘✘✘\n\n✰ Leeway. (Shin
 e Guest/Kraków)\n\n✘✘✘ LATIN STAGE ✘✘✘\n\n✰ TIGER DJ (Havan
 a/Kuba)\n✰ NESTY DJ (Havana/Kuba)\n________________________________\nSta
 rt: 22:00\;\nWjazd: 15PLN\; po 24:00 - 20PLN\nLISTA FB DO 23:00 - FREE!\nW
 iek: 21+!\nObowiązuje: door selection.\n________________________________\
 n\n[ENGLISH VERSION]\n\nLet us take you on a journey\, full of surprises\,
  unique characters and music magic. Become a part of the show and make his
 tory with us!\n\nSHINE - Make Some Noise!\n_______________________________
 _\nStart: 10:00 P.M.\nEntry: 15PLN\; after MIDNIGHT - 20PLN\nFree entry wi
 th Facebook list (click 'Attend') till 11:00 P.M.\nAge: 21+\nDoor Selectio
 n.
ATTACH;FMTTYPE=image/jpeg:https://night4u.pl/wp-content/uploads/2019/09/62
 770_image_70310212_2880427445319612_5023126048385007616_o.jpg
CATEGORIES:małopolskie
LOCATION:Shine Club Kraków\, Starowiślna 16\, Kraków\, 31-032\, Poland
GEO:50.05756;19.94445
X-APPLE-STRUCTURED-LOCATION;VALUE=URI;X-ADDRESS=Starowiślna 16\, Kraków\,
  31-032\, Poland;X-APPLE-RADIUS=100;X-TITLE=Shine Club Kraków:geo:50.0575
 6,19.94445
END:VEVENT
BEGIN:VTIMEZONE
TZID:Europe/Warsaw
X-LIC-LOCATION:Europe/Warsaw
BEGIN:DAYLIGHT
DTSTART:20190331T030000
TZOFFSETFROM:+0100
TZOFFSETTO:+0200
TZNAME:CEST
END:DAYLIGHT
END:VTIMEZONE
END:VCALENDAR